BEGIN:VCALENDAR
VERSION:2.0
PRODID:-//Blowing Rock Brewing - ECPv6.15.20//NONSGML v1.0//EN
CALSCALE:GREGORIAN
METHOD:PUBLISH
X-WR-CALNAME:Blowing Rock Brewing
X-ORIGINAL-URL:https://blowingrockbrewing.com
X-WR-CALDESC:Events for Blowing Rock Brewing
REFRESH-INTERVAL;VALUE=DURATION:PT1H
X-Robots-Tag:noindex
X-PUBLISHED-TTL:PT1H
BEGIN:VTIMEZONE
TZID:America/New_York
BEGIN:DAYLIGHT
TZOFFSETFROM:-0500
TZOFFSETTO:-0400
TZNAME:EDT
DTSTART:20220313T070000
END:DAYLIGHT
BEGIN:STANDARD
TZOFFSETFROM:-0400
TZOFFSETTO:-0500
TZNAME:EST
DTSTART:20221106T060000
END:STANDARD
BEGIN:DAYLIGHT
TZOFFSETFROM:-0500
TZOFFSETTO:-0400
TZNAME:EDT
DTSTART:20230312T070000
END:DAYLIGHT
BEGIN:STANDARD
TZOFFSETFROM:-0400
TZOFFSETTO:-0500
TZNAME:EST
DTSTART:20231105T060000
END:STANDARD
BEGIN:DAYLIGHT
TZOFFSETFROM:-0500
TZOFFSETTO:-0400
TZNAME:EDT
DTSTART:20240310T070000
END:DAYLIGHT
BEGIN:STANDARD
TZOFFSETFROM:-0400
TZOFFSETTO:-0500
TZNAME:EST
DTSTART:20241103T060000
END:STANDARD
END:VTIMEZONE
BEGIN:VEVENT
DTSTART;TZID=America/New_York:20230923T150000
DTEND;TZID=America/New_York:20230923T200000
DTSTAMP:20260421T230403
CREATED:20230908T180832Z
LAST-MODIFIED:20230908T180846Z
UID:10000079-1695481200-1695499200@blowingrockbrewing.com
SUMMARY:Fall Foodtruck Festival
DESCRIPTION:Blowing Rock Brewing is pouring beer at the annual Fall Foodtruck Festival sponsored by the Home Builders Association in Downtown Hickory\, right behind the Lowe’s Foods City Park. \nLive music from 5-8pm.
URL:https://blowingrockbrewing.com/event/fall-foodtruck-festival/
LOCATION:Lowe’s Foods City Park\, 306 Main Ave NW\, Hickory\, NC\, 28602\, United States
CATEGORIES:Festival
END:VEVENT
END:VCALENDAR