BEGIN:VCALENDAR
VERSION:2.0
PRODID:-//Blowing Rock Brewing - ECPv6.15.20//NONSGML v1.0//EN
CALSCALE:GREGORIAN
METHOD:PUBLISH
X-WR-CALNAME:Blowing Rock Brewing
X-ORIGINAL-URL:https://blowingrockbrewing.com
X-WR-CALDESC:Events for Blowing Rock Brewing
REFRESH-INTERVAL;VALUE=DURATION:PT1H
X-Robots-Tag:noindex
X-PUBLISHED-TTL:PT1H
BEGIN:VTIMEZONE
TZID:America/New_York
BEGIN:DAYLIGHT
TZOFFSETFROM:-0500
TZOFFSETTO:-0400
TZNAME:EDT
DTSTART:20220313T070000
END:DAYLIGHT
BEGIN:STANDARD
TZOFFSETFROM:-0400
TZOFFSETTO:-0500
TZNAME:EST
DTSTART:20221106T060000
END:STANDARD
BEGIN:DAYLIGHT
TZOFFSETFROM:-0500
TZOFFSETTO:-0400
TZNAME:EDT
DTSTART:20230312T070000
END:DAYLIGHT
BEGIN:STANDARD
TZOFFSETFROM:-0400
TZOFFSETTO:-0500
TZNAME:EST
DTSTART:20231105T060000
END:STANDARD
BEGIN:DAYLIGHT
TZOFFSETFROM:-0500
TZOFFSETTO:-0400
TZNAME:EDT
DTSTART:20240310T070000
END:DAYLIGHT
BEGIN:STANDARD
TZOFFSETFROM:-0400
TZOFFSETTO:-0500
TZNAME:EST
DTSTART:20241103T060000
END:STANDARD
BEGIN:DAYLIGHT
TZOFFSETFROM:-0500
TZOFFSETTO:-0400
TZNAME:EDT
DTSTART:20250309T070000
END:DAYLIGHT
BEGIN:STANDARD
TZOFFSETFROM:-0400
TZOFFSETTO:-0500
TZNAME:EST
DTSTART:20251102T060000
END:STANDARD
BEGIN:DAYLIGHT
TZOFFSETFROM:-0500
TZOFFSETTO:-0400
TZNAME:EDT
DTSTART:20260308T070000
END:DAYLIGHT
BEGIN:STANDARD
TZOFFSETFROM:-0400
TZOFFSETTO:-0500
TZNAME:EST
DTSTART:20261101T060000
END:STANDARD
END:VTIMEZONE
BEGIN:VEVENT
DTSTART;TZID=America/New_York:20250525T140000
DTEND;TZID=America/New_York:20250525T170000
DTSTAMP:20260421T222649
CREATED:20250501T143716Z
LAST-MODIFIED:20250501T143716Z
UID:10002482-1748181600-1748192400@blowingrockbrewing.com
SUMMARY:Middle Fork Greenway Event
DESCRIPTION:Groove with Us and Midlife Trip!\nJoin us at the Blowing Rock Ale House in Blowing Rock\, NC for live music benefitting the Middle Fork Greenway! Based out of Boone\, NC\, this talented band combines the improvisational spirit of the Grateful Dead with the virtuoso playing of the David Grisman Quintet to create a unique\, high-energy sound that’s sure to get you dancing. \nWe’ll be pouring our Greenway IPA (Improving People’s Access) with benefits going to the Middle Fork Greenway and there will be raffle prizes from local businesses. \nThis is a dog* and family-friendly event! We will have bandanas spent grain dog treats for sale\, and a dog photobooth! \n*Leashed dogs welcome\, outdoor only. \nAbout the Middle Fork Greenway\nThe Middle Fork Greenway is a multi-use recreational trail being developed to connect Blowing Rock to Boone\, providing residents and visitors of all ages safe and healthy access to the natural world while protecting the environment and strengthening our local economy. \nThe Middle Fork Greenway is a Blue Ridge Conservancy project in partnership with the Town of Blowing Rock\, Town of Boone and Watauga County. With the help of many partners and driven by input from community members\, the Middle Fork Greenway is coming to life segment by segment.
URL:https://blowingrockbrewing.com/event/middlefork-greenway/
LOCATION:Blowing Rock Ale House\, 152 Sunset Drive\, Blowing Rock\, NC\, 28605\, United States
CATEGORIES:Ale House,Live Music,Specials
ATTACH;FMTTYPE=image/jpeg:https://blowingrockbrewing.com/wp-content/uploads/2025/05/greenway-2025-promo.jpg
END:VEVENT
BEGIN:VEVENT
DTSTART;TZID=America/New_York:20250505T113000
DTEND;TZID=America/New_York:20250505T200000
DTSTAMP:20260421T222649
CREATED:20250501T142603Z
LAST-MODIFIED:20250501T142603Z
UID:10002481-1746444600-1746475200@blowingrockbrewing.com
SUMMARY:Cinco de Mayo
DESCRIPTION:Join us for a Mexican Fiesta! We’ll be releasing our newest beer\, ¡Que Bueno! — a crisp\, refreshing Mexican-style Lager brewed in collaboration with Malteurope Malting Company. \nOur head brewer Ryan Slobodzinski will be on location to share his thoughts on this brew\, as well as Rick Barney from Malteurope. \nWe’ll have festive music and food specials—come out to the Ale House!
URL:https://blowingrockbrewing.com/event/cinco-de-mayo/
LOCATION:Blowing Rock Ale House\, 152 Sunset Drive\, Blowing Rock\, NC\, 28605\, United States
CATEGORIES:Ale House,Specials
ATTACH;FMTTYPE=image/jpeg:https://blowingrockbrewing.com/wp-content/uploads/2025/05/cinco-de-mayo-2025.jpg
END:VEVENT
BEGIN:VEVENT
DTSTART;VALUE=DATE:20240104
DTEND;VALUE=DATE:20240105
DTSTAMP:20260421T222649
CREATED:20240124T145401Z
LAST-MODIFIED:20240124T145401Z
UID:10001937-1704326400-1704412799@blowingrockbrewing.com
SUMMARY:Thirsty Thursdays
DESCRIPTION:Ale House in Blowing Rock: THIRSTY THURSDAY!\nTHIRSTY THURSDAY means $5 pints of your favorite Blowing Rock beer!*\n*discounts exclude high ABV beers
URL:https://blowingrockbrewing.com/event/thirsty-thursdays/
LOCATION:Blowing Rock Ale House\, 152 Sunset Drive\, Blowing Rock\, NC\, 28605\, United States
CATEGORIES:Ale House,Specials
ATTACH;FMTTYPE=image/jpeg:https://blowingrockbrewing.com/wp-content/uploads/2024/01/brb-thirsty-thursdays.jpg
END:VEVENT
BEGIN:VEVENT
DTSTART;TZID=America/New_York:20230922T120000
DTEND;TZID=America/New_York:20230922T220000
DTSTAMP:20260421T222649
CREATED:20230906T153905Z
LAST-MODIFIED:20230906T153905Z
UID:10000069-1695384000-1695420000@blowingrockbrewing.com
SUMMARY:Flight Friday
DESCRIPTION:Flight Fridays in Hickory\, NC\nAt the Draft House in Hickory—Enjoy our favorite flight combinations for $10 each ALL day on Fridays! \nEach flight is made with five different beers\, served at once in 6oz. glasses. More details included in the flight menus at the Blowing Rock Draft House.
URL:https://blowingrockbrewing.com/event/flight-friday-10/
LOCATION:Blowing Rock Draft House\, 883 Highland Avenue SE\, Hickory\, NC\, 28602\, United States
CATEGORIES:Draft House,Specials
ATTACH;FMTTYPE=image/jpeg:https://blowingrockbrewing.com/wp-content/uploads/2023/07/flightfriday-event.jpg
END:VEVENT
BEGIN:VEVENT
DTSTART;TZID=America/New_York:20230915T120000
DTEND;TZID=America/New_York:20230915T220000
DTSTAMP:20260421T222649
CREATED:20230906T153844Z
LAST-MODIFIED:20230906T153844Z
UID:10000068-1694779200-1694815200@blowingrockbrewing.com
SUMMARY:Flight Friday
DESCRIPTION:Flight Fridays in Hickory\, NC\nAt the Draft House in Hickory—Enjoy our favorite flight combinations for $10 each ALL day on Fridays! \nEach flight is made with five different beers\, served at once in 6oz. glasses. More details included in the flight menus at the Blowing Rock Draft House.
URL:https://blowingrockbrewing.com/event/flight-friday-9/
LOCATION:Blowing Rock Draft House\, 883 Highland Avenue SE\, Hickory\, NC\, 28602\, United States
CATEGORIES:Draft House,Specials
ATTACH;FMTTYPE=image/jpeg:https://blowingrockbrewing.com/wp-content/uploads/2023/07/flightfriday-event.jpg
END:VEVENT
BEGIN:VEVENT
DTSTART;TZID=America/New_York:20230908T120000
DTEND;TZID=America/New_York:20230908T220000
DTSTAMP:20260421T222649
CREATED:20230906T153824Z
LAST-MODIFIED:20230906T153824Z
UID:10000067-1694174400-1694210400@blowingrockbrewing.com
SUMMARY:Flight Friday
DESCRIPTION:Flight Fridays in Hickory\, NC\nAt the Draft House in Hickory—Enjoy our favorite flight combinations for $10 each ALL day on Fridays! \nEach flight is made with five different beers\, served at once in 6oz. glasses. More details included in the flight menus at the Blowing Rock Draft House.
URL:https://blowingrockbrewing.com/event/flight-friday-8/
LOCATION:Blowing Rock Draft House\, 883 Highland Avenue SE\, Hickory\, NC\, 28602\, United States
CATEGORIES:Draft House,Specials
ATTACH;FMTTYPE=image/jpeg:https://blowingrockbrewing.com/wp-content/uploads/2023/07/flightfriday-event.jpg
END:VEVENT
BEGIN:VEVENT
DTSTART;TZID=America/New_York:20230901T120000
DTEND;TZID=America/New_York:20230901T220000
DTSTAMP:20260421T222649
CREATED:20230906T153612Z
LAST-MODIFIED:20230906T153612Z
UID:10000066-1693569600-1693605600@blowingrockbrewing.com
SUMMARY:Flight Friday
DESCRIPTION:Flight Fridays in Hickory\, NC\nAt the Draft House in Hickory—Enjoy our favorite flight combinations for $10 each ALL day on Fridays! \nEach flight is made with five different beers\, served at once in 6oz. glasses. More details included in the flight menus at the Blowing Rock Draft House.
URL:https://blowingrockbrewing.com/event/flight-friday-7/
LOCATION:Blowing Rock Draft House\, 883 Highland Avenue SE\, Hickory\, NC\, 28602\, United States
CATEGORIES:Draft House,Specials
ATTACH;FMTTYPE=image/jpeg:https://blowingrockbrewing.com/wp-content/uploads/2023/07/flightfriday-event.jpg
END:VEVENT
BEGIN:VEVENT
DTSTART;TZID=America/New_York:20230825T120000
DTEND;TZID=America/New_York:20230825T220000
DTSTAMP:20260421T222649
CREATED:20230719T215541Z
LAST-MODIFIED:20230719T215541Z
UID:10000051-1692964800-1693000800@blowingrockbrewing.com
SUMMARY:Flight Friday
DESCRIPTION:Flight Fridays in Hickory\, NC\nAt the Draft House in Hickory—Enjoy our favorite flight combinations for $10 each ALL day on Fridays! \nEach flight is made with five different beers\, served at once in 6oz. glasses. More details included in the flight menus at the Blowing Rock Draft House.
URL:https://blowingrockbrewing.com/event/flight-friday-6/
LOCATION:Blowing Rock Draft House\, 883 Highland Avenue SE\, Hickory\, NC\, 28602\, United States
CATEGORIES:Draft House,Specials
ATTACH;FMTTYPE=image/jpeg:https://blowingrockbrewing.com/wp-content/uploads/2023/07/flightfriday-event.jpg
END:VEVENT
BEGIN:VEVENT
DTSTART;TZID=America/New_York:20230818T120000
DTEND;TZID=America/New_York:20230818T220000
DTSTAMP:20260421T222649
CREATED:20230719T215517Z
LAST-MODIFIED:20230719T215517Z
UID:10000050-1692360000-1692396000@blowingrockbrewing.com
SUMMARY:Flight Friday
DESCRIPTION:Flight Fridays in Hickory\, NC\nAt the Draft House in Hickory—Enjoy our favorite flight combinations for $10 each ALL day on Fridays! \nEach flight is made with five different beers\, served at once in 6oz. glasses. More details included in the flight menus at the Blowing Rock Draft House.
URL:https://blowingrockbrewing.com/event/flight-friday-5/
LOCATION:Blowing Rock Draft House\, 883 Highland Avenue SE\, Hickory\, NC\, 28602\, United States
CATEGORIES:Draft House,Specials
ATTACH;FMTTYPE=image/jpeg:https://blowingrockbrewing.com/wp-content/uploads/2023/07/flightfriday-event.jpg
END:VEVENT
BEGIN:VEVENT
DTSTART;TZID=America/New_York:20230811T120000
DTEND;TZID=America/New_York:20230811T220000
DTSTAMP:20260421T222649
CREATED:20230719T215448Z
LAST-MODIFIED:20230719T215448Z
UID:10000049-1691755200-1691791200@blowingrockbrewing.com
SUMMARY:Flight Friday
DESCRIPTION:Flight Fridays in Hickory\, NC\nAt the Draft House in Hickory—Enjoy our favorite flight combinations for $10 each ALL day on Fridays! \nEach flight is made with five different beers\, served at once in 6oz. glasses. More details included in the flight menus at the Blowing Rock Draft House.
URL:https://blowingrockbrewing.com/event/flight-friday-4/
LOCATION:Blowing Rock Draft House\, 883 Highland Avenue SE\, Hickory\, NC\, 28602\, United States
CATEGORIES:Draft House,Specials
ATTACH;FMTTYPE=image/jpeg:https://blowingrockbrewing.com/wp-content/uploads/2023/07/flightfriday-event.jpg
END:VEVENT
BEGIN:VEVENT
DTSTART;TZID=America/New_York:20230804T120000
DTEND;TZID=America/New_York:20230804T220000
DTSTAMP:20260421T222649
CREATED:20230719T215426Z
LAST-MODIFIED:20230719T215426Z
UID:10000048-1691150400-1691186400@blowingrockbrewing.com
SUMMARY:Flight Friday
DESCRIPTION:Flight Fridays in Hickory\, NC\nAt the Draft House in Hickory—Enjoy our favorite flight combinations for $10 each ALL day on Fridays! \nEach flight is made with five different beers\, served at once in 6oz. glasses. More details included in the flight menus at the Blowing Rock Draft House.
URL:https://blowingrockbrewing.com/event/flight-friday-3/
LOCATION:Blowing Rock Draft House\, 883 Highland Avenue SE\, Hickory\, NC\, 28602\, United States
CATEGORIES:Draft House,Specials
ATTACH;FMTTYPE=image/jpeg:https://blowingrockbrewing.com/wp-content/uploads/2023/07/flightfriday-event.jpg
END:VEVENT
BEGIN:VEVENT
DTSTART;TZID=America/New_York:20230728T120000
DTEND;TZID=America/New_York:20230728T220000
DTSTAMP:20260421T222649
CREATED:20230719T215406Z
LAST-MODIFIED:20230719T215406Z
UID:10000047-1690545600-1690581600@blowingrockbrewing.com
SUMMARY:Flight Friday
DESCRIPTION:Flight Fridays in Hickory\, NC\nAt the Draft House in Hickory—Enjoy our favorite flight combinations for $10 each ALL day on Fridays! \nEach flight is made with five different beers\, served at once in 6oz. glasses. More details included in the flight menus at the Blowing Rock Draft House.
URL:https://blowingrockbrewing.com/event/flight-friday-2/
LOCATION:Blowing Rock Draft House\, 883 Highland Avenue SE\, Hickory\, NC\, 28602\, United States
CATEGORIES:Draft House,Specials
ATTACH;FMTTYPE=image/jpeg:https://blowingrockbrewing.com/wp-content/uploads/2023/07/flightfriday-event.jpg
END:VEVENT
BEGIN:VEVENT
DTSTART;TZID=America/New_York:20230721T120000
DTEND;TZID=America/New_York:20230721T220000
DTSTAMP:20260421T222649
CREATED:20230719T215212Z
LAST-MODIFIED:20230719T215311Z
UID:10000046-1689940800-1689976800@blowingrockbrewing.com
SUMMARY:Flight Friday
DESCRIPTION:Flight Fridays in Hickory\, NC\nAt the Draft House in Hickory—Enjoy our favorite flight combinations for $10 each ALL day on Fridays! \nEach flight is made with five different beers\, served at once in 6oz. glasses. More details included in the flight menus at the Blowing Rock Draft House.
URL:https://blowingrockbrewing.com/event/flight-friday/
LOCATION:Blowing Rock Draft House\, 883 Highland Avenue SE\, Hickory\, NC\, 28602\, United States
CATEGORIES:Draft House,Specials
ATTACH;FMTTYPE=image/jpeg:https://blowingrockbrewing.com/wp-content/uploads/2023/07/flightfriday-event.jpg
END:VEVENT
END:VCALENDAR