BEGIN:VCALENDAR
VERSION:2.0
PRODID:-//Blowing Rock Brewing - ECPv6.15.20//NONSGML v1.0//EN
CALSCALE:GREGORIAN
METHOD:PUBLISH
X-ORIGINAL-URL:https://blowingrockbrewing.com
X-WR-CALDESC:Events for Blowing Rock Brewing
REFRESH-INTERVAL;VALUE=DURATION:PT1H
X-Robots-Tag:noindex
X-PUBLISHED-TTL:PT1H
BEGIN:VTIMEZONE
TZID:America/New_York
BEGIN:DAYLIGHT
TZOFFSETFROM:-0500
TZOFFSETTO:-0400
TZNAME:EDT
DTSTART:20220313T070000
END:DAYLIGHT
BEGIN:STANDARD
TZOFFSETFROM:-0400
TZOFFSETTO:-0500
TZNAME:EST
DTSTART:20221106T060000
END:STANDARD
BEGIN:DAYLIGHT
TZOFFSETFROM:-0500
TZOFFSETTO:-0400
TZNAME:EDT
DTSTART:20230312T070000
END:DAYLIGHT
BEGIN:STANDARD
TZOFFSETFROM:-0400
TZOFFSETTO:-0500
TZNAME:EST
DTSTART:20231105T060000
END:STANDARD
BEGIN:DAYLIGHT
TZOFFSETFROM:-0500
TZOFFSETTO:-0400
TZNAME:EDT
DTSTART:20240310T070000
END:DAYLIGHT
BEGIN:STANDARD
TZOFFSETFROM:-0400
TZOFFSETTO:-0500
TZNAME:EST
DTSTART:20241103T060000
END:STANDARD
END:VTIMEZONE
BEGIN:VEVENT
DTSTART;TZID=America/New_York:20230908T120000
DTEND;TZID=America/New_York:20230908T220000
DTSTAMP:20260422T013920
CREATED:20230906T153824Z
LAST-MODIFIED:20230906T153824Z
UID:10000067-1694174400-1694210400@blowingrockbrewing.com
SUMMARY:Flight Friday
DESCRIPTION:Flight Fridays in Hickory\, NC\nAt the Draft House in Hickory—Enjoy our favorite flight combinations for $10 each ALL day on Fridays! \nEach flight is made with five different beers\, served at once in 6oz. glasses. More details included in the flight menus at the Blowing Rock Draft House.
URL:https://blowingrockbrewing.com/event/flight-friday-8/
LOCATION:Blowing Rock Draft House\, 883 Highland Avenue SE\, Hickory\, NC\, 28602\, United States
CATEGORIES:Draft House,Specials
ATTACH;FMTTYPE=image/jpeg:https://blowingrockbrewing.com/wp-content/uploads/2023/07/flightfriday-event.jpg
END:VEVENT
BEGIN:VEVENT
DTSTART;TZID=America/New_York:20230906T170000
DTEND;TZID=America/New_York:20230906T210000
DTSTAMP:20260422T013920
CREATED:20230906T153958Z
LAST-MODIFIED:20230906T153958Z
UID:10000071-1694019600-1694034000@blowingrockbrewing.com
SUMMARY:Wednesday Game Night
DESCRIPTION:Bring your crew to the Draft House on Wednesdays for game night & drink specials! ½ price glasses of wine and $2 off select beers! BYO game or play one of ours. See you then!
URL:https://blowingrockbrewing.com/event/wednesday-game-night-8/
LOCATION:Blowing Rock Draft House\, 883 Highland Avenue SE\, Hickory\, NC\, 28602\, United States
CATEGORIES:Draft House,Games
ATTACH;FMTTYPE=image/png:https://blowingrockbrewing.com/wp-content/uploads/2023/07/brdh-gamenight-logo.png
END:VEVENT
BEGIN:VEVENT
DTSTART;TZID=America/New_York:20230901T120000
DTEND;TZID=America/New_York:20230901T220000
DTSTAMP:20260422T013920
CREATED:20230906T153612Z
LAST-MODIFIED:20230906T153612Z
UID:10000066-1693569600-1693605600@blowingrockbrewing.com
SUMMARY:Flight Friday
DESCRIPTION:Flight Fridays in Hickory\, NC\nAt the Draft House in Hickory—Enjoy our favorite flight combinations for $10 each ALL day on Fridays! \nEach flight is made with five different beers\, served at once in 6oz. glasses. More details included in the flight menus at the Blowing Rock Draft House.
URL:https://blowingrockbrewing.com/event/flight-friday-7/
LOCATION:Blowing Rock Draft House\, 883 Highland Avenue SE\, Hickory\, NC\, 28602\, United States
CATEGORIES:Draft House,Specials
ATTACH;FMTTYPE=image/jpeg:https://blowingrockbrewing.com/wp-content/uploads/2023/07/flightfriday-event.jpg
END:VEVENT
BEGIN:VEVENT
DTSTART;TZID=America/New_York:20230830T170000
DTEND;TZID=America/New_York:20230830T210000
DTSTAMP:20260422T013920
CREATED:20230719T011743Z
LAST-MODIFIED:20230719T011743Z
UID:10000045-1693414800-1693429200@blowingrockbrewing.com
SUMMARY:Wednesday Game Night
DESCRIPTION:Bring your crew to the Draft House on Wednesdays for game night & drink specials! ½ price glasses of wine and $2 off select beers! BYO game or play one of ours. See you then!
URL:https://blowingrockbrewing.com/event/wednesday-game-night-7/
LOCATION:Blowing Rock Draft House\, 883 Highland Avenue SE\, Hickory\, NC\, 28602\, United States
CATEGORIES:Draft House,Games
ATTACH;FMTTYPE=image/png:https://blowingrockbrewing.com/wp-content/uploads/2023/07/brdh-gamenight-logo.png
END:VEVENT
BEGIN:VEVENT
DTSTART;TZID=America/New_York:20230826T190000
DTEND;TZID=America/New_York:20230826T220000
DTSTAMP:20260422T013920
CREATED:20230516T143404Z
LAST-MODIFIED:20230713T182209Z
UID:10000005-1693076400-1693087200@blowingrockbrewing.com
SUMMARY:Rebecca Hart
DESCRIPTION:Join us at the Blowing Rock Draft House in Hickory\, NC for live music with Rebecca Hart!
URL:https://blowingrockbrewing.com/event/rebecca-hart/
LOCATION:Blowing Rock Draft House\, 883 Highland Avenue SE\, Hickory\, NC\, 28602\, United States
CATEGORIES:Draft House,Live Music
ATTACH;FMTTYPE=image/jpeg:https://blowingrockbrewing.com/wp-content/uploads/2023/05/rebecca-hart.jpg
END:VEVENT
BEGIN:VEVENT
DTSTART;TZID=America/New_York:20230825T200000
DTEND;TZID=America/New_York:20230825T220000
DTSTAMP:20260422T013920
CREATED:20230803T185315Z
LAST-MODIFIED:20230803T185315Z
UID:10000055-1692993600-1693000800@blowingrockbrewing.com
SUMMARY:Beer Garden Movie: Twilight
DESCRIPTION:Hickory\, NC – Beer Garden Movie: Twilight\nSummer Friday nights are made for movies! We will be screening Twilight\, a romance fantasy film your entire family will enjoy. \nCatch the film\, indulge in a $10 flight\, and snack on some Yadkin Valley popcorn in the Draft House’s beer garden… showtime is 8pm! See you there… 🍻
URL:https://blowingrockbrewing.com/event/beer-garden-movie-twilight/
LOCATION:Blowing Rock Draft House\, 883 Highland Avenue SE\, Hickory\, NC\, 28602\, United States
CATEGORIES:Draft House
ATTACH;FMTTYPE=image/jpeg:https://blowingrockbrewing.com/wp-content/uploads/2023/08/brdh-movienight-800x450-1.jpg
END:VEVENT
BEGIN:VEVENT
DTSTART;TZID=America/New_York:20230825T120000
DTEND;TZID=America/New_York:20230825T220000
DTSTAMP:20260422T013920
CREATED:20230719T215541Z
LAST-MODIFIED:20230719T215541Z
UID:10000051-1692964800-1693000800@blowingrockbrewing.com
SUMMARY:Flight Friday
DESCRIPTION:Flight Fridays in Hickory\, NC\nAt the Draft House in Hickory—Enjoy our favorite flight combinations for $10 each ALL day on Fridays! \nEach flight is made with five different beers\, served at once in 6oz. glasses. More details included in the flight menus at the Blowing Rock Draft House.
URL:https://blowingrockbrewing.com/event/flight-friday-6/
LOCATION:Blowing Rock Draft House\, 883 Highland Avenue SE\, Hickory\, NC\, 28602\, United States
CATEGORIES:Draft House,Specials
ATTACH;FMTTYPE=image/jpeg:https://blowingrockbrewing.com/wp-content/uploads/2023/07/flightfriday-event.jpg
END:VEVENT
BEGIN:VEVENT
DTSTART;TZID=America/New_York:20230823T170000
DTEND;TZID=America/New_York:20230823T210000
DTSTAMP:20260422T013920
CREATED:20230719T011723Z
LAST-MODIFIED:20230719T011723Z
UID:10000044-1692810000-1692824400@blowingrockbrewing.com
SUMMARY:Wednesday Game Night
DESCRIPTION:Bring your crew to the Draft House on Wednesdays for game night & drink specials! ½ price glasses of wine and $2 off select beers! BYO game or play one of ours. See you then!
URL:https://blowingrockbrewing.com/event/wednesday-game-night-6/
LOCATION:Blowing Rock Draft House\, 883 Highland Avenue SE\, Hickory\, NC\, 28602\, United States
CATEGORIES:Draft House,Games
ATTACH;FMTTYPE=image/png:https://blowingrockbrewing.com/wp-content/uploads/2023/07/brdh-gamenight-logo.png
END:VEVENT
BEGIN:VEVENT
DTSTART;TZID=America/New_York:20230819T190000
DTEND;TZID=America/New_York:20230819T220000
DTSTAMP:20260422T013920
CREATED:20230718T185224Z
LAST-MODIFIED:20230808T153130Z
UID:10000038-1692471600-1692482400@blowingrockbrewing.com
SUMMARY:Harris Brothers
DESCRIPTION:Hickory\, NC – Live Music by the Harris Brothers at the Blowing Rock Draft House!\nReggie and Ryan Harris are a brother duo born and raised in Western North Carolina\, where they were exposed to a wide variety of music from an early age. Their infinite live repertoire consists of any number of genres including traditional roots music\, rock & roll\, jazz\, blues\, Appalachian mountain music\, vintage country and bluegrass. A typical live show effortlessly shifts from original tunes to their own arrangements of songs from all sides of the Americana musical spectrum.
URL:https://blowingrockbrewing.com/event/harris-brothers/
LOCATION:Blowing Rock Draft House\, 883 Highland Avenue SE\, Hickory\, NC\, 28602\, United States
CATEGORIES:Draft House,Live Music
ATTACH;FMTTYPE=image/webp:https://blowingrockbrewing.com/wp-content/uploads/2023/07/harris-brothers.webp
END:VEVENT
BEGIN:VEVENT
DTSTART;TZID=America/New_York:20230818T200000
DTEND;TZID=America/New_York:20230818T220000
DTSTAMP:20260422T013920
CREATED:20230803T185148Z
LAST-MODIFIED:20230803T185148Z
UID:10000054-1692388800-1692396000@blowingrockbrewing.com
SUMMARY:Beer Garden Movie: Secondhand Lions
DESCRIPTION:Hickory\, NC – Beer Garden Movie: Secondhand Lions\nSummer Friday nights are made for movies! We will be screening Secondhand Lions\, a coming of age story your entire family will enjoy. \nCatch the film\, indulge in a $10 flight\, and snack on some Yadkin Valley popcorn in the Draft House’s beer garden… showtime is 8pm! See you there… 🍻
URL:https://blowingrockbrewing.com/event/beer-garden-movie-secondhand-lions/
LOCATION:Blowing Rock Draft House\, 883 Highland Avenue SE\, Hickory\, NC\, 28602\, United States
CATEGORIES:Draft House
ATTACH;FMTTYPE=image/jpeg:https://blowingrockbrewing.com/wp-content/uploads/2023/08/brdh-movienight-800x450-1.jpg
END:VEVENT
BEGIN:VEVENT
DTSTART;TZID=America/New_York:20230818T120000
DTEND;TZID=America/New_York:20230818T220000
DTSTAMP:20260422T013920
CREATED:20230719T215517Z
LAST-MODIFIED:20230719T215517Z
UID:10000050-1692360000-1692396000@blowingrockbrewing.com
SUMMARY:Flight Friday
DESCRIPTION:Flight Fridays in Hickory\, NC\nAt the Draft House in Hickory—Enjoy our favorite flight combinations for $10 each ALL day on Fridays! \nEach flight is made with five different beers\, served at once in 6oz. glasses. More details included in the flight menus at the Blowing Rock Draft House.
URL:https://blowingrockbrewing.com/event/flight-friday-5/
LOCATION:Blowing Rock Draft House\, 883 Highland Avenue SE\, Hickory\, NC\, 28602\, United States
CATEGORIES:Draft House,Specials
ATTACH;FMTTYPE=image/jpeg:https://blowingrockbrewing.com/wp-content/uploads/2023/07/flightfriday-event.jpg
END:VEVENT
BEGIN:VEVENT
DTSTART;TZID=America/New_York:20230816T170000
DTEND;TZID=America/New_York:20230816T210000
DTSTAMP:20260422T013920
CREATED:20230719T011703Z
LAST-MODIFIED:20230719T011703Z
UID:10000043-1692205200-1692219600@blowingrockbrewing.com
SUMMARY:Wednesday Game Night
DESCRIPTION:Bring your crew to the Draft House on Wednesdays for game night & drink specials! ½ price glasses of wine and $2 off select beers! BYO game or play one of ours. See you then!
URL:https://blowingrockbrewing.com/event/wednesday-game-night-5/
LOCATION:Blowing Rock Draft House\, 883 Highland Avenue SE\, Hickory\, NC\, 28602\, United States
CATEGORIES:Draft House,Games
ATTACH;FMTTYPE=image/png:https://blowingrockbrewing.com/wp-content/uploads/2023/07/brdh-gamenight-logo.png
END:VEVENT
BEGIN:VEVENT
DTSTART;TZID=America/New_York:20230811T200000
DTEND;TZID=America/New_York:20230811T220000
DTSTAMP:20260422T013920
CREATED:20230803T185010Z
LAST-MODIFIED:20230803T185010Z
UID:10000053-1691784000-1691791200@blowingrockbrewing.com
SUMMARY:Beer Garden Movie: Crazy Rich Asians
DESCRIPTION:Hickory\, NC – Beer Garden Movie: Crazy Rich Asians\nSummer Friday nights are made for movies! We will be screening Crazy Rich Asians\, a romantic comedy your entire family will enjoy. \nCatch the film\, indulge in a $10 flight\, and snack on some Yadkin Valley popcorn in the Draft House’s beer garden… showtime is 8pm! See you there… 🍻
URL:https://blowingrockbrewing.com/event/beer-garden-movie-crazy-rich-asians/
LOCATION:Blowing Rock Draft House\, 883 Highland Avenue SE\, Hickory\, NC\, 28602\, United States
CATEGORIES:Draft House
ATTACH;FMTTYPE=image/jpeg:https://blowingrockbrewing.com/wp-content/uploads/2023/08/brdh-movienight-800x450-1.jpg
END:VEVENT
BEGIN:VEVENT
DTSTART;TZID=America/New_York:20230811T120000
DTEND;TZID=America/New_York:20230811T220000
DTSTAMP:20260422T013920
CREATED:20230719T215448Z
LAST-MODIFIED:20230719T215448Z
UID:10000049-1691755200-1691791200@blowingrockbrewing.com
SUMMARY:Flight Friday
DESCRIPTION:Flight Fridays in Hickory\, NC\nAt the Draft House in Hickory—Enjoy our favorite flight combinations for $10 each ALL day on Fridays! \nEach flight is made with five different beers\, served at once in 6oz. glasses. More details included in the flight menus at the Blowing Rock Draft House.
URL:https://blowingrockbrewing.com/event/flight-friday-4/
LOCATION:Blowing Rock Draft House\, 883 Highland Avenue SE\, Hickory\, NC\, 28602\, United States
CATEGORIES:Draft House,Specials
ATTACH;FMTTYPE=image/jpeg:https://blowingrockbrewing.com/wp-content/uploads/2023/07/flightfriday-event.jpg
END:VEVENT
BEGIN:VEVENT
DTSTART;TZID=America/New_York:20230809T170000
DTEND;TZID=America/New_York:20230809T210000
DTSTAMP:20260422T013920
CREATED:20230719T011640Z
LAST-MODIFIED:20230719T011640Z
UID:10000042-1691600400-1691614800@blowingrockbrewing.com
SUMMARY:Wednesday Game Night
DESCRIPTION:Bring your crew to the Draft House on Wednesdays for game night & drink specials! ½ price glasses of wine and $2 off select beers! BYO game or play one of ours. See you then!
URL:https://blowingrockbrewing.com/event/wednesday-game-night-4/
LOCATION:Blowing Rock Draft House\, 883 Highland Avenue SE\, Hickory\, NC\, 28602\, United States
CATEGORIES:Draft House,Games
ATTACH;FMTTYPE=image/png:https://blowingrockbrewing.com/wp-content/uploads/2023/07/brdh-gamenight-logo.png
END:VEVENT
BEGIN:VEVENT
DTSTART;TZID=America/New_York:20230806T170000
DTEND;TZID=America/New_York:20230806T200000
DTSTAMP:20260422T013920
CREATED:20230713T182106Z
LAST-MODIFIED:20230713T182106Z
UID:10000034-1691341200-1691352000@blowingrockbrewing.com
SUMMARY:Sunday Jazz on Tap
DESCRIPTION:Hickory\, NC – Live Jazz at the Blowing Rock Draft House!\nJoin us Sunday at the Draft House for jazz! Relax and ease into the start of your week by enjoying jazzy tunes from\, Nathan Hefner\, Rick Hefner\, and Mike Willis.
URL:https://blowingrockbrewing.com/event/sunday-jazz-on-tap-4/
LOCATION:Blowing Rock Draft House\, 883 Highland Avenue SE\, Hickory\, NC\, 28602\, United States
CATEGORIES:Draft House,Live Music
ATTACH;FMTTYPE=image/jpeg:https://blowingrockbrewing.com/wp-content/uploads/2023/05/jazztrio-featured.jpg
END:VEVENT
BEGIN:VEVENT
DTSTART;TZID=America/New_York:20230804T200000
DTEND;TZID=America/New_York:20230804T220000
DTSTAMP:20260422T013920
CREATED:20230803T184452Z
LAST-MODIFIED:20230803T184554Z
UID:10000052-1691179200-1691186400@blowingrockbrewing.com
SUMMARY:Beer Garden Movie: Field of Dreams
DESCRIPTION:Hickory\, NC – Beer Garden Movie: Field of Dreams\nSummer Friday nights are made for movies! We will be screening Field of Dreams\, a classic your entire family will enjoy. \nCatch the film\, indulge in a $10 flight\, and snack on some Yadkin Valley popcorn in the Draft House’s beer garden…showtime is 8pm! See you there… 🍻
URL:https://blowingrockbrewing.com/event/beer-garden-movie/
LOCATION:Blowing Rock Draft House\, 883 Highland Avenue SE\, Hickory\, NC\, 28602\, United States
CATEGORIES:Draft House
ATTACH;FMTTYPE=image/jpeg:https://blowingrockbrewing.com/wp-content/uploads/2023/08/brdh-movienight-800x450-1.jpg
END:VEVENT
BEGIN:VEVENT
DTSTART;TZID=America/New_York:20230804T120000
DTEND;TZID=America/New_York:20230804T220000
DTSTAMP:20260422T013920
CREATED:20230719T215426Z
LAST-MODIFIED:20230719T215426Z
UID:10000048-1691150400-1691186400@blowingrockbrewing.com
SUMMARY:Flight Friday
DESCRIPTION:Flight Fridays in Hickory\, NC\nAt the Draft House in Hickory—Enjoy our favorite flight combinations for $10 each ALL day on Fridays! \nEach flight is made with five different beers\, served at once in 6oz. glasses. More details included in the flight menus at the Blowing Rock Draft House.
URL:https://blowingrockbrewing.com/event/flight-friday-3/
LOCATION:Blowing Rock Draft House\, 883 Highland Avenue SE\, Hickory\, NC\, 28602\, United States
CATEGORIES:Draft House,Specials
ATTACH;FMTTYPE=image/jpeg:https://blowingrockbrewing.com/wp-content/uploads/2023/07/flightfriday-event.jpg
END:VEVENT
BEGIN:VEVENT
DTSTART;TZID=America/New_York:20230802T170000
DTEND;TZID=America/New_York:20230802T210000
DTSTAMP:20260422T013920
CREATED:20230719T011617Z
LAST-MODIFIED:20230719T011617Z
UID:10000041-1690995600-1691010000@blowingrockbrewing.com
SUMMARY:Wednesday Game Night
DESCRIPTION:Bring your crew to the Draft House on Wednesdays for game night & drink specials! ½ price glasses of wine and $2 off select beers! BYO game or play one of ours. See you then!
URL:https://blowingrockbrewing.com/event/wednesday-game-night-3/
LOCATION:Blowing Rock Draft House\, 883 Highland Avenue SE\, Hickory\, NC\, 28602\, United States
CATEGORIES:Draft House,Games
ATTACH;FMTTYPE=image/png:https://blowingrockbrewing.com/wp-content/uploads/2023/07/brdh-gamenight-logo.png
END:VEVENT
BEGIN:VEVENT
DTSTART;TZID=America/New_York:20230728T120000
DTEND;TZID=America/New_York:20230728T220000
DTSTAMP:20260422T013920
CREATED:20230719T215406Z
LAST-MODIFIED:20230719T215406Z
UID:10000047-1690545600-1690581600@blowingrockbrewing.com
SUMMARY:Flight Friday
DESCRIPTION:Flight Fridays in Hickory\, NC\nAt the Draft House in Hickory—Enjoy our favorite flight combinations for $10 each ALL day on Fridays! \nEach flight is made with five different beers\, served at once in 6oz. glasses. More details included in the flight menus at the Blowing Rock Draft House.
URL:https://blowingrockbrewing.com/event/flight-friday-2/
LOCATION:Blowing Rock Draft House\, 883 Highland Avenue SE\, Hickory\, NC\, 28602\, United States
CATEGORIES:Draft House,Specials
ATTACH;FMTTYPE=image/jpeg:https://blowingrockbrewing.com/wp-content/uploads/2023/07/flightfriday-event.jpg
END:VEVENT
BEGIN:VEVENT
DTSTART;TZID=America/New_York:20230726T170000
DTEND;TZID=America/New_York:20230726T210000
DTSTAMP:20260422T013920
CREATED:20230719T011520Z
LAST-MODIFIED:20230719T011520Z
UID:10000040-1690390800-1690405200@blowingrockbrewing.com
SUMMARY:Wednesday Game Night
DESCRIPTION:Bring your crew to the Draft House on Wednesdays for game night & drink specials! ½ price glasses of wine and $2 off select beers! BYO game or play one of ours. See you then!
URL:https://blowingrockbrewing.com/event/wednesday-game-night-2/
LOCATION:Blowing Rock Draft House\, 883 Highland Avenue SE\, Hickory\, NC\, 28602\, United States
CATEGORIES:Draft House,Games
ATTACH;FMTTYPE=image/png:https://blowingrockbrewing.com/wp-content/uploads/2023/07/brdh-gamenight-logo.png
END:VEVENT
BEGIN:VEVENT
DTSTART;TZID=America/New_York:20230721T120000
DTEND;TZID=America/New_York:20230721T220000
DTSTAMP:20260422T013920
CREATED:20230719T215212Z
LAST-MODIFIED:20230719T215311Z
UID:10000046-1689940800-1689976800@blowingrockbrewing.com
SUMMARY:Flight Friday
DESCRIPTION:Flight Fridays in Hickory\, NC\nAt the Draft House in Hickory—Enjoy our favorite flight combinations for $10 each ALL day on Fridays! \nEach flight is made with five different beers\, served at once in 6oz. glasses. More details included in the flight menus at the Blowing Rock Draft House.
URL:https://blowingrockbrewing.com/event/flight-friday/
LOCATION:Blowing Rock Draft House\, 883 Highland Avenue SE\, Hickory\, NC\, 28602\, United States
CATEGORIES:Draft House,Specials
ATTACH;FMTTYPE=image/jpeg:https://blowingrockbrewing.com/wp-content/uploads/2023/07/flightfriday-event.jpg
END:VEVENT
BEGIN:VEVENT
DTSTART;TZID=America/New_York:20230719T170000
DTEND;TZID=America/New_York:20230719T210000
DTSTAMP:20260422T013920
CREATED:20230719T011445Z
LAST-MODIFIED:20230719T011549Z
UID:10000039-1689786000-1689800400@blowingrockbrewing.com
SUMMARY:Wednesday Game Night
DESCRIPTION:Bring your crew to the Draft House on Wednesdays for game night & drink specials! ½ price glasses of wine and $2 off select beers! BYO game or play one of ours. See you then!
URL:https://blowingrockbrewing.com/event/wednesday-game-night/
LOCATION:Blowing Rock Draft House\, 883 Highland Avenue SE\, Hickory\, NC\, 28602\, United States
CATEGORIES:Draft House,Games
ATTACH;FMTTYPE=image/png:https://blowingrockbrewing.com/wp-content/uploads/2023/07/brdh-gamenight-logo.png
END:VEVENT
BEGIN:VEVENT
DTSTART;TZID=America/New_York:20230716T170000
DTEND;TZID=America/New_York:20230716T200000
DTSTAMP:20260422T013920
CREATED:20230516T162412Z
LAST-MODIFIED:20230516T162412Z
UID:10000014-1689526800-1689537600@blowingrockbrewing.com
SUMMARY:Sunday Jazz on Tap
DESCRIPTION:Hickory\, NC – Live Jazz at the Blowing Rock Draft House!\nJoin us Sunday at the Draft House for jazz! Relax and ease into the start of your week by enjoying jazzy tunes from\, Nathan Hefner\, Rick Hefner\, and Mike Willis.
URL:https://blowingrockbrewing.com/event/sunday-jazz-on-tap-3/
LOCATION:Blowing Rock Draft House\, 883 Highland Avenue SE\, Hickory\, NC\, 28602\, United States
CATEGORIES:Draft House,Live Music
ATTACH;FMTTYPE=image/jpeg:https://blowingrockbrewing.com/wp-content/uploads/2023/05/jazztrio-featured.jpg
END:VEVENT
BEGIN:VEVENT
DTSTART;TZID=America/New_York:20230715T190000
DTEND;TZID=America/New_York:20230715T220000
DTSTAMP:20260422T013920
CREATED:20230517T011610Z
LAST-MODIFIED:20230517T011610Z
UID:10000021-1689447600-1689458400@blowingrockbrewing.com
SUMMARY:Metro Jethros
DESCRIPTION:Hickory\, NC – Live Music by Metro Jethros at the Blowing Rock Draft House!\nWith musical backgrounds in all genres including Bluegrass\, Rock \, Country\, and Americana\, the band brings a very rounded sound to their music. With lyrics that paint a mental picture to great catchy hooks\, their original music is a pleasing sound to the most discerning ear. The band has had the honor to open for some great acts including Chris Janson\, Jerrod Niemann and even The Marshall Tucker Band. Based on the variety of the bands influences\, the band decided on the name\, The Metro Jethros\, in honor of fellow North Carolinian\, Jon Reep.
URL:https://blowingrockbrewing.com/event/metro-jethros/
LOCATION:Blowing Rock Draft House\, 883 Highland Avenue SE\, Hickory\, NC\, 28602\, United States
CATEGORIES:Draft House,Live Music
END:VEVENT
BEGIN:VEVENT
DTSTART;TZID=America/New_York:20230701T180000
DTEND;TZID=America/New_York:20230701T210000
DTSTAMP:20260422T013920
CREATED:20230516T181453Z
LAST-MODIFIED:20230516T181453Z
UID:10000017-1688234400-1688245200@blowingrockbrewing.com
SUMMARY:Big FanDamily
DESCRIPTION:Hickory\, NC – Live Music at Blowing Rock Draft House!\nHickory’s hottest cover band\, THE BIGFANDAMILY BAND.
URL:https://blowingrockbrewing.com/event/big-fandamily/
LOCATION:Blowing Rock Draft House\, 883 Highland Avenue SE\, Hickory\, NC\, 28602\, United States
CATEGORIES:Draft House,Live Music
ATTACH;FMTTYPE=image/jpeg:https://blowingrockbrewing.com/wp-content/uploads/2023/05/bigfandamily.jpg
END:VEVENT
BEGIN:VEVENT
DTSTART;TZID=America/New_York:20230611T170000
DTEND;TZID=America/New_York:20230611T200000
DTSTAMP:20260422T013920
CREATED:20230516T162348Z
LAST-MODIFIED:20230516T162348Z
UID:10000013-1686502800-1686513600@blowingrockbrewing.com
SUMMARY:Sunday Jazz on Tap
DESCRIPTION:Hickory\, NC – Live Jazz at the Blowing Rock Draft House!\nJoin us Sunday at the Draft House for jazz! Relax and ease into the start of your week by enjoying jazzy tunes from\, Nathan Hefner\, Rick Hefner\, and Mike Willis.
URL:https://blowingrockbrewing.com/event/sunday-jazz-on-tap-2/
LOCATION:Blowing Rock Draft House\, 883 Highland Avenue SE\, Hickory\, NC\, 28602\, United States
CATEGORIES:Draft House,Live Music
ATTACH;FMTTYPE=image/jpeg:https://blowingrockbrewing.com/wp-content/uploads/2023/05/jazztrio-featured.jpg
END:VEVENT
BEGIN:VEVENT
DTSTART;TZID=America/New_York:20230604T170000
DTEND;TZID=America/New_York:20230604T200000
DTSTAMP:20260422T013920
CREATED:20230511T205609Z
LAST-MODIFIED:20230518T172207Z
UID:10000002-1685898000-1685908800@blowingrockbrewing.com
SUMMARY:Sunday Jazz on Tap
DESCRIPTION:Join us Sunday at the Draft House for jazz! Relax and ease into the start of your week by enjoying jazzy tunes from\, Nathan Hefner\, Rick Hefner\, and Mike Willis.
URL:https://blowingrockbrewing.com/event/sunday-jazz-on-tap/
LOCATION:Blowing Rock Draft House\, 883 Highland Avenue SE\, Hickory\, NC\, 28602\, United States
CATEGORIES:Draft House,Live Music
ATTACH;FMTTYPE=image/jpeg:https://blowingrockbrewing.com/wp-content/uploads/2023/05/jazztrio-featured.jpg
END:VEVENT
BEGIN:VEVENT
DTSTART;TZID=America/New_York:20230527T140000
DTEND;TZID=America/New_York:20230527T160000
DTSTAMP:20260422T013920
CREATED:20230512T170820Z
LAST-MODIFIED:20230523T132838Z
UID:10000004-1685196000-1685203200@blowingrockbrewing.com
SUMMARY:Bourbon Arcade
DESCRIPTION:Come out to the Blowing Rock Ale House in Hickory\, NC for a mix of rock\, blues\, alt country\, and even a little R&B! \nBourbon Arcade is a group of four who played together in another band for years\, and broke away from there and added genres like rock\, soul\, blues\, alt country. Heavy influences from the Rolling Stones\, Muddy Waters\, Jimi Hendrix\, The Grateful Dead\, etc.
URL:https://blowingrockbrewing.com/event/bourbon-arcade/
LOCATION:Blowing Rock Draft House\, 883 Highland Avenue SE\, Hickory\, NC\, 28602\, United States
CATEGORIES:Draft House,Live Music
ATTACH;FMTTYPE=image/png:https://blowingrockbrewing.com/wp-content/uploads/2023/05/bourbon-arcade.png
END:VEVENT
BEGIN:VEVENT
DTSTART;TZID=America/New_York:20230517T180000
DTEND;TZID=America/New_York:20230517T200000
DTSTAMP:20260422T013920
CREATED:20230511T204340Z
LAST-MODIFIED:20230511T204340Z
UID:10000001-1684346400-1684353600@blowingrockbrewing.com
SUMMARY:Paint & Sip
DESCRIPTION:Come join artist Jamie and kickoff Summer by painting a peaceful beach scene while enjoying your favorite brews!\nTo book your spot and for payment details\, please email paintingwithJP@gmail.com. \nHappy painting and cheers!
URL:https://blowingrockbrewing.com/event/paint-and-sip/
LOCATION:Blowing Rock Draft House\, 883 Highland Avenue SE\, Hickory\, NC\, 28602\, United States
CATEGORIES:Draft House
ORGANIZER;CN="Jamie":MAILTO:paintingwithJP@gmail.com
END:VEVENT
END:VCALENDAR