BEGIN:VCALENDAR
VERSION:2.0
PRODID:-//Blowing Rock Brewing - ECPv6.15.20//NONSGML v1.0//EN
CALSCALE:GREGORIAN
METHOD:PUBLISH
X-WR-CALNAME:Blowing Rock Brewing
X-ORIGINAL-URL:https://blowingrockbrewing.com
X-WR-CALDESC:Events for Blowing Rock Brewing
REFRESH-INTERVAL;VALUE=DURATION:PT1H
X-Robots-Tag:noindex
X-PUBLISHED-TTL:PT1H
BEGIN:VTIMEZONE
TZID:America/New_York
BEGIN:DAYLIGHT
TZOFFSETFROM:-0500
TZOFFSETTO:-0400
TZNAME:EDT
DTSTART:20220313T070000
END:DAYLIGHT
BEGIN:STANDARD
TZOFFSETFROM:-0400
TZOFFSETTO:-0500
TZNAME:EST
DTSTART:20221106T060000
END:STANDARD
BEGIN:DAYLIGHT
TZOFFSETFROM:-0500
TZOFFSETTO:-0400
TZNAME:EDT
DTSTART:20230312T070000
END:DAYLIGHT
BEGIN:STANDARD
TZOFFSETFROM:-0400
TZOFFSETTO:-0500
TZNAME:EST
DTSTART:20231105T060000
END:STANDARD
BEGIN:DAYLIGHT
TZOFFSETFROM:-0500
TZOFFSETTO:-0400
TZNAME:EDT
DTSTART:20240310T070000
END:DAYLIGHT
BEGIN:STANDARD
TZOFFSETFROM:-0400
TZOFFSETTO:-0500
TZNAME:EST
DTSTART:20241103T060000
END:STANDARD
BEGIN:DAYLIGHT
TZOFFSETFROM:-0500
TZOFFSETTO:-0400
TZNAME:EDT
DTSTART:20250309T070000
END:DAYLIGHT
BEGIN:STANDARD
TZOFFSETFROM:-0400
TZOFFSETTO:-0500
TZNAME:EST
DTSTART:20251102T060000
END:STANDARD
BEGIN:DAYLIGHT
TZOFFSETFROM:-0500
TZOFFSETTO:-0400
TZNAME:EDT
DTSTART:20260308T070000
END:DAYLIGHT
BEGIN:STANDARD
TZOFFSETFROM:-0400
TZOFFSETTO:-0500
TZNAME:EST
DTSTART:20261101T060000
END:STANDARD
END:VTIMEZONE
BEGIN:VEVENT
DTSTART;TZID=America/New_York:20250601T140000
DTEND;TZID=America/New_York:20250601T170000
DTSTAMP:20260421T222701
CREATED:20230516T145345Z
LAST-MODIFIED:20250617T213955Z
UID:10000006-1748786400-1748797200@blowingrockbrewing.com
SUMMARY:Will Easter
DESCRIPTION:Blowing Rock\, NC – Live Music at the Blowing Rock Ale House!\nComing of age in the shadow of the Sauratown Mountains\, Will Easter learned the family traditions; working hard\, enjoying life\, and playing music. His father and grandfather instilled in him their gifts\,talents\, work ethic\, and love for the nature surrounding their home. These lessons combined with inspiration from the wild calm of the land and steady roar of the river impressed on Will’s heart the inspiration for his masterful lyrics and music.Will embraced their gifts\, combining them with his love and appreciation for many genres\, crafting his own unique sound. You can call it “Sauratown Mountain Folk.” You can call it “Grunge Grass.”Regardless\, when you listen to his album\, Carolina Home\, you can hear his fearless vulnerability in every note and lyric.The last few years have been incredible for Will. He has shared the stage with acts synonymous with Folk and Bluegrass like the legendary Jim Avett\, David Childers\, Time Sawyer\, Brooks Forsyth\, The Kruger Brothers\, Rhonda Vincent and Danger Muffin. In 2018 he earned his bachelor’s degree from Appalachian State University\, and in 2019 he recorded and released Carolina Home. From Boone and Asheville to the Triad and Charlotte\, Will has become a staple of music venues and festivals throughout the Carolinas and Virginia. With a piece of every place woven into each song\, his music has something for everyone\, while paying homage to his roots. The road ahead for Will is exciting.Won’t you join him on this sonic journey from coming of age to love lost and found\, working hard while finding peace in the every day\, always culminating in the winding road leading to his Carolina Home?
URL:https://blowingrockbrewing.com/event/will-easter/
LOCATION:Blowing Rock Ale House\, 152 Sunset Drive\, Blowing Rock\, NC\, 28605\, United States
CATEGORIES:Draft House,Live Music
ATTACH;FMTTYPE=image/jpeg:https://blowingrockbrewing.com/wp-content/uploads/2023/05/will-easter.jpg
END:VEVENT
BEGIN:VEVENT
DTSTART;TZID=America/New_York:20240601T180000
DTEND;TZID=America/New_York:20240601T210000
DTSTAMP:20260421T222701
CREATED:20240502T200540Z
LAST-MODIFIED:20240502T200540Z
UID:10002470-1717264800-1717275600@blowingrockbrewing.com
SUMMARY:Klee Liles
DESCRIPTION:Hickory\, NC – Live Music at the Blowing Rock Draft House!\nSolo acoustic artist playing versions of pop covers and top 40 hits from the 70’s to today. Songs you know\, songs you don’t know\, but are accessible.
URL:https://blowingrockbrewing.com/event/klee-liles-2/
LOCATION:Blowing Rock Ale House\, 152 Sunset Drive\, Blowing Rock\, NC\, 28605\, United States
CATEGORIES:Draft House,Live Music
ATTACH;FMTTYPE=image/jpeg:https://blowingrockbrewing.com/wp-content/uploads/2023/05/klee-liles.jpg
END:VEVENT
BEGIN:VEVENT
DTSTART;TZID=America/New_York:20240518T180000
DTEND;TZID=America/New_York:20240518T210000
DTSTAMP:20260421T222701
CREATED:20240502T193723Z
LAST-MODIFIED:20240502T193723Z
UID:10002469-1716055200-1716066000@blowingrockbrewing.com
SUMMARY:Dakota Groves
DESCRIPTION:Hickory\, NC – Live Music at the Blowing Rock Draft House!\nDakota Groves\, an up and coming artist local to the Boone area\, plays a wide variety of 90’s and early 2000’s rock. He is starting his journey in songwriting\, so performs a handful of originals as well.
URL:https://blowingrockbrewing.com/event/dakota-groves-2/
LOCATION:Blowing Rock Ale House\, 152 Sunset Drive\, Blowing Rock\, NC\, 28605\, United States
CATEGORIES:Draft House,Live Music
END:VEVENT
BEGIN:VEVENT
DTSTART;TZID=America/New_York:20240511T180000
DTEND;TZID=America/New_York:20240511T210000
DTSTAMP:20260421T222701
CREATED:20230718T184835Z
LAST-MODIFIED:20240327T174436Z
UID:10000037-1715450400-1715461200@blowingrockbrewing.com
SUMMARY:Robb Simmons
DESCRIPTION:Hickory\, NC – Live Music by Robb Simmons at the Blowing Rock Draft House!\nRobb Simmons plays Rock\, Blues\, Reggae and Acoustic. New projects include full blues rock set and a mix of sounds.
URL:https://blowingrockbrewing.com/event/robb-simmons/
LOCATION:Blowing Rock Draft House\, 883 Highland Avenue SE\, Hickory\, NC\, 28602\, United States
CATEGORIES:Draft House,Live Music
ATTACH;FMTTYPE=image/jpeg:https://blowingrockbrewing.com/wp-content/uploads/2023/07/robb_simmons.jpg
END:VEVENT
BEGIN:VEVENT
DTSTART;TZID=America/New_York:20240504T180000
DTEND;TZID=America/New_York:20240504T210000
DTSTAMP:20260421T222701
CREATED:20230516T182005Z
LAST-MODIFIED:20240327T174348Z
UID:10000018-1714845600-1714856400@blowingrockbrewing.com
SUMMARY:Shelby Rae Moore
DESCRIPTION:Hickory\, NC – Live Music by Shelby Rae Moore at the Blowing Rock Draft House!\nThe Shelby Rae Moore Band features Shelby Rae Moore along with her uncles Brent and Chet Palmer on guitars; Andrew Fultz plays drums. Having grown up in a musical family\, Shelby has the uncommon ability to move effortlessly between genres including blues\, soul\, and Americana. She has an undeniable connection with every song she performs. Brent Palmer creates most of the harmonic texture with his acoustic guitar arrangements while Chet colors the ensemble with tasteful fills and brilliant lead guitar playing. Andrew drives the rhythm on drums\, always playing with just the right feel for each style of music.
URL:https://blowingrockbrewing.com/event/shelby-rae-moore/
LOCATION:Blowing Rock Draft House\, 883 Highland Avenue SE\, Hickory\, NC\, 28602\, United States
CATEGORIES:Draft House,Live Music
ATTACH;FMTTYPE=image/jpeg:https://blowingrockbrewing.com/wp-content/uploads/2023/05/shelby-rae-moore.jpg
END:VEVENT
BEGIN:VEVENT
DTSTART;TZID=America/New_York:20240427T180000
DTEND;TZID=America/New_York:20240427T210000
DTSTAMP:20260421T222701
CREATED:20230718T184546Z
LAST-MODIFIED:20240327T174516Z
UID:10000036-1714240800-1714251600@blowingrockbrewing.com
SUMMARY:Moose & Friends
DESCRIPTION:Hickory\, NC – Live Music by Moose & Friends at the Blowing Rock Draft House!\nMoose & Friends play a collection of original songs written by all members that have influences in jam\, jazz and newgrass. \nMoose & Friends over the course of it’s history has played iconic venues\, breweries and festivals and have shared the stage with regional and national acts of magnitude.
URL:https://blowingrockbrewing.com/event/moose-friends/
LOCATION:Blowing Rock Draft House\, 883 Highland Avenue SE\, Hickory\, NC\, 28602\, United States
CATEGORIES:Draft House,Live Music
ATTACH;FMTTYPE=image/jpeg:https://blowingrockbrewing.com/wp-content/uploads/2023/07/moose_friends.jpg
END:VEVENT
BEGIN:VEVENT
DTSTART;TZID=America/New_York:20240420T180000
DTEND;TZID=America/New_York:20240420T210000
DTSTAMP:20260421T222701
CREATED:20230718T184030Z
LAST-MODIFIED:20240327T174626Z
UID:10000035-1713636000-1713646800@blowingrockbrewing.com
SUMMARY:McKenzie Marie
DESCRIPTION:Hickory\, NC – Live Music at the Blowing Rock Draft House!\nMackenzie Marie\, native to Hickory\, NC\, started her music career at the age of 3 while recording songs from church on a vintage cassette player. Impressed by her ability to sing as such a young age\, her grandfather\, also a singer and musician\, took her under his wing. Using a background in piano\, Mackenzie taught herself to play the guitar and began to interpret life through lyrics. As a songwriter\, her musical influence spans decades from the 50’s to the 80’s\, including artists such as Elvis Pressley\, Van Morrison\, and Journey. Vocally she is compared to Norah Jones\, Stevie Nicks\, and Bonnie Ratt.
URL:https://blowingrockbrewing.com/event/mckenzie-marie-2/
LOCATION:Blowing Rock Draft House\, 883 Highland Avenue SE\, Hickory\, NC\, 28602\, United States
CATEGORIES:Draft House,Live Music
END:VEVENT
BEGIN:VEVENT
DTSTART;VALUE=DATE:20240101
DTEND;VALUE=DATE:20240103
DTSTAMP:20260421T222701
CREATED:20231205T142332Z
LAST-MODIFIED:20231205T142408Z
UID:10000089-1704067200-1704239999@blowingrockbrewing.com
SUMMARY:Draft House CLOSED for New Year's Day
DESCRIPTION:Blowing Rock Draft House in Hickory\, NC will be closed ALL DAY Monday\, January 1st -AND- Tuesday\, January 2nd. \nRegular hours resume on Wednesday\, January 3rd. Join us in 2024!
URL:https://blowingrockbrewing.com/event/draft-house-closed-new-years-day/
LOCATION:Blowing Rock Draft House\, 883 Highland Avenue SE\, Hickory\, NC\, 28602\, United States
CATEGORIES:Draft House
END:VEVENT
BEGIN:VEVENT
DTSTART;VALUE=DATE:20231231
DTEND;VALUE=DATE:20240101
DTSTAMP:20260421T222701
CREATED:20231205T140959Z
LAST-MODIFIED:20231205T142233Z
UID:10000086-1703980800-1704067199@blowingrockbrewing.com
SUMMARY:Draft House Closing Early for New Year's Eve
DESCRIPTION:Blowing Rock Draft House in Hickory\, NC is closing early at 4pm on Sunday\, December 31st for a New Year’s Eve and will be closed ALL DAY Monday\, January 1st -AND- Tuesday\, January 2nd. \nRegular hours resume on Wednesday\, January 3rd. Join us in 2024!
URL:https://blowingrockbrewing.com/event/draft-house-closing-early-for-new-years-eve/
LOCATION:Blowing Rock Draft House\, 883 Highland Avenue SE\, Hickory\, NC\, 28602\, United States
CATEGORIES:Draft House
END:VEVENT
BEGIN:VEVENT
DTSTART;VALUE=DATE:20231224
DTEND;VALUE=DATE:20231227
DTSTAMP:20260421T222701
CREATED:20231205T140059Z
LAST-MODIFIED:20231205T140540Z
UID:10000084-1703376000-1703635199@blowingrockbrewing.com
SUMMARY:Draft House Closed for Christmas
DESCRIPTION:Blowing Rock Draft House in Hickory\, NC is closed Sunday\, December 24th–Tuesday\, December 26th for our staff to enjoy the holidays with friends and family. \nRegular hours resume on Wednesday\, December 27th. Come see us after the holiday!
URL:https://blowingrockbrewing.com/event/draft-house-closed-christmas/
LOCATION:Blowing Rock Draft House\, 883 Highland Avenue SE\, Hickory\, NC\, 28602\, United States
CATEGORIES:Draft House
END:VEVENT
BEGIN:VEVENT
DTSTART;TZID=America/New_York:20231220T173000
DTEND;TZID=America/New_York:20231220T210000
DTSTAMP:20260421T222701
CREATED:20231205T135705Z
LAST-MODIFIED:20231205T135705Z
UID:10000083-1703093400-1703106000@blowingrockbrewing.com
SUMMARY:Draft House Closing Early for Private Event
DESCRIPTION:Blowing Rock Draft House in Hickory\, NC is closing early on Wednesday\, December 20th for a private event.
URL:https://blowingrockbrewing.com/event/draft-house-closing-early-for-private-event/
LOCATION:Blowing Rock Draft House\, 883 Highland Avenue SE\, Hickory\, NC\, 28602\, United States
CATEGORIES:Draft House
END:VEVENT
BEGIN:VEVENT
DTSTART;TZID=America/New_York:20231210T123000
DTEND;TZID=America/New_York:20231210T153000
DTSTAMP:20260421T222701
CREATED:20231205T135346Z
LAST-MODIFIED:20231205T135440Z
UID:10000082-1702211400-1702222200@blowingrockbrewing.com
SUMMARY:Paint & Sip Light-up Holiday Ceramics
DESCRIPTION:Paint with Painted Grape at Blowing Rock Drafthouse & Brewery of Hickory\nJoin us on 12/10 @ 12:30PM. Customize using your own colors and take home with you that day! We use a special glaze that makes your ceramic look kiln fired without the wait time! \nDon’t wait & miss out on our insanely popular nostalgic ‘Make & Take’ Ceramic Choices! All have a corded switch light that goes in the bottom and lights up the included multi color plastic bulbs. \nPre-Order the following:\n\nSmall Christmas Tree – $40 – 9-3/4″H\nSpiral Tree – $60 – 13-1/2″H x 6-1/4″D\nTruck – $42 – 7″H x 9″L x 4½”D\nWagon – $42 – 9″ H x 7″ L x 4 ½” D\nCactus – $50 – 10½”H x 8½”W x 4″L\nGingerbread House – $40 – 7½”H x 5½”W x 4⅞”L\nCamper – $42 – 8¼”W x 5″L x 5⅛”H\n\nOne tap beer is included. This is a 21+ only class. \nPre-Registration is a Must: PaintedGrapeNC.com/hickory-calendar
URL:https://blowingrockbrewing.com/event/paint-sip-light-up-holiday-ceramics/
LOCATION:Blowing Rock Draft House\, 883 Highland Avenue SE\, Hickory\, NC\, 28602\, United States
CATEGORIES:Draft House
ATTACH;FMTTYPE=image/jpeg:https://blowingrockbrewing.com/wp-content/uploads/2023/12/paint-sip-holiday.jpg
END:VEVENT
BEGIN:VEVENT
DTSTART;TZID=America/New_York:20231028T190000
DTEND;TZID=America/New_York:20231028T220000
DTSTAMP:20260421T222701
CREATED:20230901T171922Z
LAST-MODIFIED:20230901T171922Z
UID:10000065-1698519600-1698530400@blowingrockbrewing.com
SUMMARY:Moose & Friends
DESCRIPTION:Hickory\, NC – Live Music by Moose & Friends at the Blowing Rock Draft House!\nMoose & Friends play a collection of original songs written by all members that have influences in jam\, jazz and newgrass. \nMoose & Friends over the course of it’s history has played iconic venues\, breweries and festivals and have shared the stage with regional and national acts of magnitude.
URL:https://blowingrockbrewing.com/event/moose-friends-2/
LOCATION:Blowing Rock Draft House\, 883 Highland Avenue SE\, Hickory\, NC\, 28602\, United States
CATEGORIES:Draft House,Live Music
ATTACH;FMTTYPE=image/jpeg:https://blowingrockbrewing.com/wp-content/uploads/2023/07/moose_friends.jpg
END:VEVENT
BEGIN:VEVENT
DTSTART;TZID=America/New_York:20231021T190000
DTEND;TZID=America/New_York:20231021T220000
DTSTAMP:20260421T222701
CREATED:20230928T202037Z
LAST-MODIFIED:20230928T202037Z
UID:10000081-1697914800-1697925600@blowingrockbrewing.com
SUMMARY:Nice Marmot
DESCRIPTION:Hickory\, NC – Live Music by Nice Marmot at the Blowing Rock Draft House!\nNice Marmot  are a jamgrass band doing modern interpretations of traditional songs mixed with some more contemporary selections from a wide variety of styles into a genre bending sound.
URL:https://blowingrockbrewing.com/event/nice-marmot/
LOCATION:Blowing Rock Draft House\, 883 Highland Avenue SE\, Hickory\, NC\, 28602\, United States
CATEGORIES:Draft House,Live Music
ATTACH;FMTTYPE=image/jpeg:https://blowingrockbrewing.com/wp-content/uploads/2023/09/nicemarmot.jpg
END:VEVENT
BEGIN:VEVENT
DTSTART;TZID=America/New_York:20231014T190000
DTEND;TZID=America/New_York:20231014T220000
DTSTAMP:20260421T222701
CREATED:20230901T171846Z
LAST-MODIFIED:20230901T171846Z
UID:10000064-1697310000-1697320800@blowingrockbrewing.com
SUMMARY:Robb Simmons
DESCRIPTION:Hickory\, NC – Live Music by Robb Simmons at the Blowing Rock Draft House!\nRobb Simmons plays Rock\, Blues\, Reggae and Acoustic. New projects include full blues rock set and a mix of sounds.
URL:https://blowingrockbrewing.com/event/robb-simmons-2/
LOCATION:Blowing Rock Draft House\, 883 Highland Avenue SE\, Hickory\, NC\, 28602\, United States
CATEGORIES:Draft House,Live Music
ATTACH;FMTTYPE=image/jpeg:https://blowingrockbrewing.com/wp-content/uploads/2023/07/robb_simmons.jpg
END:VEVENT
BEGIN:VEVENT
DTSTART;TZID=America/New_York:20231013T183000
DTEND;TZID=America/New_York:20231013T220000
DTSTAMP:20260421T222701
CREATED:20230908T175044Z
LAST-MODIFIED:20230908T175044Z
UID:10000076-1697221800-1697234400@blowingrockbrewing.com
SUMMARY:Draft Houses Closes at 6pm
DESCRIPTION:The Draft House in Hickory is closing early on Friday October 13th for a Lenoir Rhyne University alumni event.
URL:https://blowingrockbrewing.com/event/draft-houses-closed/
LOCATION:NC
CATEGORIES:Draft House
END:VEVENT
BEGIN:VEVENT
DTSTART;TZID=America/New_York:20231007T190000
DTEND;TZID=America/New_York:20231007T220000
DTSTAMP:20260421T222701
CREATED:20230901T171807Z
LAST-MODIFIED:20230901T171807Z
UID:10000063-1696705200-1696716000@blowingrockbrewing.com
SUMMARY:Grandma's Medicine
DESCRIPTION:Live music the Blowing Rock Draft House in Hickory\, NC!
URL:https://blowingrockbrewing.com/event/grandmas-medicine/
LOCATION:Blowing Rock Draft House\, 883 Highland Avenue SE\, Hickory\, NC\, 28602\, United States
CATEGORIES:Draft House,Live Music
END:VEVENT
BEGIN:VEVENT
DTSTART;TZID=America/New_York:20230930T190000
DTEND;TZID=America/New_York:20230930T220000
DTSTAMP:20260421T222701
CREATED:20230901T171350Z
LAST-MODIFIED:20230901T171350Z
UID:10000059-1696100400-1696111200@blowingrockbrewing.com
SUMMARY:Shelby Rae Moore
DESCRIPTION:Hickory\, NC – Live Music by Shelby Rae Moore at the Blowing Rock Draft House!\nThe Shelby Rae Moore Band features Shelby Rae Moore along with her uncles Brent and Chet Palmer on guitars; Andrew Fultz plays drums. Having grown up in a musical family\, Shelby has the uncommon ability to move effortlessly between genres including blues\, soul\, and Americana. She has an undeniable connection with every song she performs. Brent Palmer creates most of the harmonic texture with his acoustic guitar arrangements while Chet colors the ensemble with tasteful fills and brilliant lead guitar playing. Andrew drives the rhythm on drums\, always playing with just the right feel for each style of music.
URL:https://blowingrockbrewing.com/event/shelby-rae-moore-2/
LOCATION:Blowing Rock Draft House\, 883 Highland Avenue SE\, Hickory\, NC\, 28602\, United States
CATEGORIES:Draft House,Live Music
ATTACH;FMTTYPE=image/jpeg:https://blowingrockbrewing.com/wp-content/uploads/2023/05/shelby-rae-moore.jpg
END:VEVENT
BEGIN:VEVENT
DTSTART;TZID=America/New_York:20230922T120000
DTEND;TZID=America/New_York:20230922T220000
DTSTAMP:20260421T222701
CREATED:20230906T153905Z
LAST-MODIFIED:20230906T153905Z
UID:10000069-1695384000-1695420000@blowingrockbrewing.com
SUMMARY:Flight Friday
DESCRIPTION:Flight Fridays in Hickory\, NC\nAt the Draft House in Hickory—Enjoy our favorite flight combinations for $10 each ALL day on Fridays! \nEach flight is made with five different beers\, served at once in 6oz. glasses. More details included in the flight menus at the Blowing Rock Draft House.
URL:https://blowingrockbrewing.com/event/flight-friday-10/
LOCATION:Blowing Rock Draft House\, 883 Highland Avenue SE\, Hickory\, NC\, 28602\, United States
CATEGORIES:Draft House,Specials
ATTACH;FMTTYPE=image/jpeg:https://blowingrockbrewing.com/wp-content/uploads/2023/07/flightfriday-event.jpg
END:VEVENT
BEGIN:VEVENT
DTSTART;TZID=America/New_York:20230920T170000
DTEND;TZID=America/New_York:20230920T210000
DTSTAMP:20260421T222701
CREATED:20230906T154046Z
LAST-MODIFIED:20230906T154046Z
UID:10000073-1695229200-1695243600@blowingrockbrewing.com
SUMMARY:Wednesday Game Night
DESCRIPTION:Bring your crew to the Draft House on Wednesdays for game night & drink specials! ½ price glasses of wine and $2 off select beers! BYO game or play one of ours. See you then!
URL:https://blowingrockbrewing.com/event/wednesday-game-night-10/
LOCATION:Blowing Rock Draft House\, 883 Highland Avenue SE\, Hickory\, NC\, 28602\, United States
CATEGORIES:Draft House,Games
ATTACH;FMTTYPE=image/png:https://blowingrockbrewing.com/wp-content/uploads/2023/07/brdh-gamenight-logo.png
END:VEVENT
BEGIN:VEVENT
DTSTART;TZID=America/New_York:20230916T190000
DTEND;TZID=America/New_York:20230916T220000
DTSTAMP:20260421T222701
CREATED:20230901T171701Z
LAST-MODIFIED:20230901T171701Z
UID:10000062-1694890800-1694901600@blowingrockbrewing.com
SUMMARY:Down the Mtn Band
DESCRIPTION:Live music the Blowing Rock Draft House in Hickory\, NC!
URL:https://blowingrockbrewing.com/event/down-mtn-band/
LOCATION:Blowing Rock Draft House\, 883 Highland Avenue SE\, Hickory\, NC\, 28602\, United States
CATEGORIES:Draft House,Live Music
END:VEVENT
BEGIN:VEVENT
DTSTART;TZID=America/New_York:20230915T120000
DTEND;TZID=America/New_York:20230915T220000
DTSTAMP:20260421T222701
CREATED:20230906T153844Z
LAST-MODIFIED:20230906T153844Z
UID:10000068-1694779200-1694815200@blowingrockbrewing.com
SUMMARY:Flight Friday
DESCRIPTION:Flight Fridays in Hickory\, NC\nAt the Draft House in Hickory—Enjoy our favorite flight combinations for $10 each ALL day on Fridays! \nEach flight is made with five different beers\, served at once in 6oz. glasses. More details included in the flight menus at the Blowing Rock Draft House.
URL:https://blowingrockbrewing.com/event/flight-friday-9/
LOCATION:Blowing Rock Draft House\, 883 Highland Avenue SE\, Hickory\, NC\, 28602\, United States
CATEGORIES:Draft House,Specials
ATTACH;FMTTYPE=image/jpeg:https://blowingrockbrewing.com/wp-content/uploads/2023/07/flightfriday-event.jpg
END:VEVENT
BEGIN:VEVENT
DTSTART;TZID=America/New_York:20230913T170000
DTEND;TZID=America/New_York:20230913T210000
DTSTAMP:20260421T222701
CREATED:20230906T154020Z
LAST-MODIFIED:20230906T154020Z
UID:10000072-1694624400-1694638800@blowingrockbrewing.com
SUMMARY:Wednesday Game Night
DESCRIPTION:Bring your crew to the Draft House on Wednesdays for game night & drink specials! ½ price glasses of wine and $2 off select beers! BYO game or play one of ours. See you then!
URL:https://blowingrockbrewing.com/event/wednesday-game-night-9/
LOCATION:Blowing Rock Draft House\, 883 Highland Avenue SE\, Hickory\, NC\, 28602\, United States
CATEGORIES:Draft House,Games
ATTACH;FMTTYPE=image/png:https://blowingrockbrewing.com/wp-content/uploads/2023/07/brdh-gamenight-logo.png
END:VEVENT
BEGIN:VEVENT
DTSTART;TZID=America/New_York:20230909T190000
DTEND;TZID=America/New_York:20230909T220000
DTSTAMP:20260421T222701
CREATED:20230901T171437Z
LAST-MODIFIED:20230901T171452Z
UID:10000060-1694286000-1694296800@blowingrockbrewing.com
SUMMARY:Bourbon Arcade
DESCRIPTION:Come out to the Blowing Rock Draft House in Hickory\, NC for a mix of rock\, blues\, alt country\, and even a little R&B! \nBourbon Arcade is a group of four who played together in another band for years\, and broke away from there and added genres like rock\, soul\, blues\, alt country. Heavy influences from the Rolling Stones\, Muddy Waters\, Jimi Hendrix\, The Grateful Dead\, etc.
URL:https://blowingrockbrewing.com/event/bourbon-arcade-2/
LOCATION:Blowing Rock Draft House\, 883 Highland Avenue SE\, Hickory\, NC\, 28602\, United States
CATEGORIES:Draft House,Live Music
ATTACH;FMTTYPE=image/png:https://blowingrockbrewing.com/wp-content/uploads/2023/05/bourbon-arcade.png
END:VEVENT
BEGIN:VEVENT
DTSTART;TZID=America/New_York:20230908T120000
DTEND;TZID=America/New_York:20230908T220000
DTSTAMP:20260421T222701
CREATED:20230906T153824Z
LAST-MODIFIED:20230906T153824Z
UID:10000067-1694174400-1694210400@blowingrockbrewing.com
SUMMARY:Flight Friday
DESCRIPTION:Flight Fridays in Hickory\, NC\nAt the Draft House in Hickory—Enjoy our favorite flight combinations for $10 each ALL day on Fridays! \nEach flight is made with five different beers\, served at once in 6oz. glasses. More details included in the flight menus at the Blowing Rock Draft House.
URL:https://blowingrockbrewing.com/event/flight-friday-8/
LOCATION:Blowing Rock Draft House\, 883 Highland Avenue SE\, Hickory\, NC\, 28602\, United States
CATEGORIES:Draft House,Specials
ATTACH;FMTTYPE=image/jpeg:https://blowingrockbrewing.com/wp-content/uploads/2023/07/flightfriday-event.jpg
END:VEVENT
BEGIN:VEVENT
DTSTART;TZID=America/New_York:20230906T170000
DTEND;TZID=America/New_York:20230906T210000
DTSTAMP:20260421T222701
CREATED:20230906T153958Z
LAST-MODIFIED:20230906T153958Z
UID:10000071-1694019600-1694034000@blowingrockbrewing.com
SUMMARY:Wednesday Game Night
DESCRIPTION:Bring your crew to the Draft House on Wednesdays for game night & drink specials! ½ price glasses of wine and $2 off select beers! BYO game or play one of ours. See you then!
URL:https://blowingrockbrewing.com/event/wednesday-game-night-8/
LOCATION:Blowing Rock Draft House\, 883 Highland Avenue SE\, Hickory\, NC\, 28602\, United States
CATEGORIES:Draft House,Games
ATTACH;FMTTYPE=image/png:https://blowingrockbrewing.com/wp-content/uploads/2023/07/brdh-gamenight-logo.png
END:VEVENT
BEGIN:VEVENT
DTSTART;TZID=America/New_York:20230901T120000
DTEND;TZID=America/New_York:20230901T220000
DTSTAMP:20260421T222701
CREATED:20230906T153612Z
LAST-MODIFIED:20230906T153612Z
UID:10000066-1693569600-1693605600@blowingrockbrewing.com
SUMMARY:Flight Friday
DESCRIPTION:Flight Fridays in Hickory\, NC\nAt the Draft House in Hickory—Enjoy our favorite flight combinations for $10 each ALL day on Fridays! \nEach flight is made with five different beers\, served at once in 6oz. glasses. More details included in the flight menus at the Blowing Rock Draft House.
URL:https://blowingrockbrewing.com/event/flight-friday-7/
LOCATION:Blowing Rock Draft House\, 883 Highland Avenue SE\, Hickory\, NC\, 28602\, United States
CATEGORIES:Draft House,Specials
ATTACH;FMTTYPE=image/jpeg:https://blowingrockbrewing.com/wp-content/uploads/2023/07/flightfriday-event.jpg
END:VEVENT
BEGIN:VEVENT
DTSTART;TZID=America/New_York:20230830T170000
DTEND;TZID=America/New_York:20230830T210000
DTSTAMP:20260421T222701
CREATED:20230719T011743Z
LAST-MODIFIED:20230719T011743Z
UID:10000045-1693414800-1693429200@blowingrockbrewing.com
SUMMARY:Wednesday Game Night
DESCRIPTION:Bring your crew to the Draft House on Wednesdays for game night & drink specials! ½ price glasses of wine and $2 off select beers! BYO game or play one of ours. See you then!
URL:https://blowingrockbrewing.com/event/wednesday-game-night-7/
LOCATION:Blowing Rock Draft House\, 883 Highland Avenue SE\, Hickory\, NC\, 28602\, United States
CATEGORIES:Draft House,Games
ATTACH;FMTTYPE=image/png:https://blowingrockbrewing.com/wp-content/uploads/2023/07/brdh-gamenight-logo.png
END:VEVENT
BEGIN:VEVENT
DTSTART;TZID=America/New_York:20230826T190000
DTEND;TZID=America/New_York:20230826T220000
DTSTAMP:20260421T222701
CREATED:20230516T143404Z
LAST-MODIFIED:20230713T182209Z
UID:10000005-1693076400-1693087200@blowingrockbrewing.com
SUMMARY:Rebecca Hart
DESCRIPTION:Join us at the Blowing Rock Draft House in Hickory\, NC for live music with Rebecca Hart!
URL:https://blowingrockbrewing.com/event/rebecca-hart/
LOCATION:Blowing Rock Draft House\, 883 Highland Avenue SE\, Hickory\, NC\, 28602\, United States
CATEGORIES:Draft House,Live Music
ATTACH;FMTTYPE=image/jpeg:https://blowingrockbrewing.com/wp-content/uploads/2023/05/rebecca-hart.jpg
END:VEVENT
BEGIN:VEVENT
DTSTART;TZID=America/New_York:20230825T200000
DTEND;TZID=America/New_York:20230825T220000
DTSTAMP:20260421T222701
CREATED:20230803T185315Z
LAST-MODIFIED:20230803T185315Z
UID:10000055-1692993600-1693000800@blowingrockbrewing.com
SUMMARY:Beer Garden Movie: Twilight
DESCRIPTION:Hickory\, NC – Beer Garden Movie: Twilight\nSummer Friday nights are made for movies! We will be screening Twilight\, a romance fantasy film your entire family will enjoy. \nCatch the film\, indulge in a $10 flight\, and snack on some Yadkin Valley popcorn in the Draft House’s beer garden… showtime is 8pm! See you there… 🍻
URL:https://blowingrockbrewing.com/event/beer-garden-movie-twilight/
LOCATION:Blowing Rock Draft House\, 883 Highland Avenue SE\, Hickory\, NC\, 28602\, United States
CATEGORIES:Draft House
ATTACH;FMTTYPE=image/jpeg:https://blowingrockbrewing.com/wp-content/uploads/2023/08/brdh-movienight-800x450-1.jpg
END:VEVENT
END:VCALENDAR