BEGIN:VCALENDAR
VERSION:2.0
PRODID:-//Blowing Rock Brewing - ECPv6.15.20//NONSGML v1.0//EN
CALSCALE:GREGORIAN
METHOD:PUBLISH
X-ORIGINAL-URL:https://blowingrockbrewing.com
X-WR-CALDESC:Events for Blowing Rock Brewing
REFRESH-INTERVAL;VALUE=DURATION:PT1H
X-Robots-Tag:noindex
X-PUBLISHED-TTL:PT1H
BEGIN:VTIMEZONE
TZID:America/New_York
BEGIN:DAYLIGHT
TZOFFSETFROM:-0500
TZOFFSETTO:-0400
TZNAME:EDT
DTSTART:20240310T070000
END:DAYLIGHT
BEGIN:STANDARD
TZOFFSETFROM:-0400
TZOFFSETTO:-0500
TZNAME:EST
DTSTART:20241103T060000
END:STANDARD
BEGIN:DAYLIGHT
TZOFFSETFROM:-0500
TZOFFSETTO:-0400
TZNAME:EDT
DTSTART:20250309T070000
END:DAYLIGHT
BEGIN:STANDARD
TZOFFSETFROM:-0400
TZOFFSETTO:-0500
TZNAME:EST
DTSTART:20251102T060000
END:STANDARD
BEGIN:DAYLIGHT
TZOFFSETFROM:-0500
TZOFFSETTO:-0400
TZNAME:EDT
DTSTART:20260308T070000
END:DAYLIGHT
BEGIN:STANDARD
TZOFFSETFROM:-0400
TZOFFSETTO:-0500
TZNAME:EST
DTSTART:20261101T060000
END:STANDARD
END:VTIMEZONE
BEGIN:VEVENT
DTSTART;TZID=America/New_York:20250928T140000
DTEND;TZID=America/New_York:20250928T170000
DTSTAMP:20260422T185628
CREATED:20240906T190043Z
LAST-MODIFIED:20250729T212237Z
UID:10002476-1759068000-1759078800@blowingrockbrewing.com
SUMMARY:Candler Rice
DESCRIPTION:Candler Rice – Live Music at the Blowing Rock Ale House!\nAs the keyboardist for rising country star Adam Church\, Candler Rice has been part of the magic behind sold-out shows across the US\, including a standout tour with Luke Combs in 2022. When he’s not on tour\, he returns to his roots\, captivating audiences with a mix of Piano Bar classics\, Folk\, Country\, Original music\, and more! Renowned for his collaborations with talented singers and musicians across the Carolinas\, he delivers a unique show you don’t want to miss!
URL:https://blowingrockbrewing.com/event/candler-rice/
LOCATION:Blowing Rock Ale House\, 152 Sunset Drive\, Blowing Rock\, NC\, 28605\, United States
CATEGORIES:Ale House,Live Music
ATTACH;FMTTYPE=image/jpeg:https://blowingrockbrewing.com/wp-content/uploads/2024/09/candler_rice.jpeg
END:VEVENT
BEGIN:VEVENT
DTSTART;VALUE=DATE:20251004
DTEND;VALUE=DATE:20251006
DTSTAMP:20260422T185628
CREATED:20250911T143027Z
LAST-MODIFIED:20250911T143400Z
UID:10002491-1759536000-1759708799@blowingrockbrewing.com
SUMMARY:Oktoberfest Weekend
DESCRIPTION:An Oktoberfest Weekend Celebration at the Ale House in Blowing Rock!\nBlowing Rock Ale House – ALL WEEKEND LONG \nSaturday\, Oct 4th 2024\, 12:30–8pm \nSunday\, Oct. 5th\, 12:30–6pm \n***Hours above are for live music… we’ll be open before and after for normal business hours!*** \nLive Music featuring Local Favorites!\n🎼🍂SATURDAY\, OCTOBER 4TH MUSIC LINEUP🍂🎼\n12:30pm-2:30pm – Crossnore Creek\n3:00pm-4:30pm – Ethan White\n5:00pm-8:00pm – Classic Highway \n🎶🍁SUNDAY\, OCTOBER 5TH MUSIC LINEUP🍁🎶\n12:30pm-3:30pm – Dakota Groves Band\n4:00pm-6:00pm – Red Bud Bluegrass \nFun Food & Festivities!\n\nAle House Pretzels and other apps pair well with any beer!\nFull menu of food offerings available for inside dining + biergarten snacks outside\nStein holding competitions throughout the day\nSouvenir cups\, shirts and more!\n\nPlus our favorite seasonal beer: Blowing Rock Oktoberfest Märzen-style Lager is already on tap and in six packs. \nJoin us at the Ale House in Blowing Rock! \n 
URL:https://blowingrockbrewing.com/event/oktoberfest-weekend/
LOCATION:NC
CATEGORIES:Ale House,Festival,Live Music
ATTACH;FMTTYPE=image/png:https://blowingrockbrewing.com/wp-content/uploads/2025/09/brb-oktoberfest-promoweb.png
END:VEVENT
END:VCALENDAR