BEGIN:VCALENDAR
VERSION:2.0
PRODID:-//Blowing Rock Brewing - ECPv6.15.20//NONSGML v1.0//EN
CALSCALE:GREGORIAN
METHOD:PUBLISH
X-WR-CALNAME:Blowing Rock Brewing
X-ORIGINAL-URL:https://blowingrockbrewing.com
X-WR-CALDESC:Events for Blowing Rock Brewing
REFRESH-INTERVAL;VALUE=DURATION:PT1H
X-Robots-Tag:noindex
X-PUBLISHED-TTL:PT1H
BEGIN:VTIMEZONE
TZID:America/New_York
BEGIN:DAYLIGHT
TZOFFSETFROM:-0500
TZOFFSETTO:-0400
TZNAME:EDT
DTSTART:20240310T070000
END:DAYLIGHT
BEGIN:STANDARD
TZOFFSETFROM:-0400
TZOFFSETTO:-0500
TZNAME:EST
DTSTART:20241103T060000
END:STANDARD
BEGIN:DAYLIGHT
TZOFFSETFROM:-0500
TZOFFSETTO:-0400
TZNAME:EDT
DTSTART:20250309T070000
END:DAYLIGHT
BEGIN:STANDARD
TZOFFSETFROM:-0400
TZOFFSETTO:-0500
TZNAME:EST
DTSTART:20251102T060000
END:STANDARD
BEGIN:DAYLIGHT
TZOFFSETFROM:-0500
TZOFFSETTO:-0400
TZNAME:EDT
DTSTART:20260308T070000
END:DAYLIGHT
BEGIN:STANDARD
TZOFFSETFROM:-0400
TZOFFSETTO:-0500
TZNAME:EST
DTSTART:20261101T060000
END:STANDARD
END:VTIMEZONE
BEGIN:VEVENT
DTSTART;TZID=America/New_York:20250510T140000
DTEND;TZID=America/New_York:20250510T170000
DTSTAMP:20260422T202453
CREATED:20250428T150306Z
LAST-MODIFIED:20250428T150306Z
UID:10002480-1746885600-1746896400@blowingrockbrewing.com
SUMMARY:Summer Ale Release Party
DESCRIPTION:☀️Summer Ale release party on May 10th!☀️ \nCome celebrate in the beer garden with live music from RedBud Bluegrass\, new merch\, and of course—cold\, crisp pours of this brand new American Wheat ale brewed with fresh orange peels and coriander! 🍊🍻 \nIt’s going to be an awesome day with family & friends toasting to this delicious\, refreshing new brew! See you then!
URL:https://blowingrockbrewing.com/event/summer-ale-release-party/
LOCATION:Blowing Rock Ale House\, 152 Sunset Drive\, Blowing Rock\, NC\, 28605\, United States
CATEGORIES:Ale House,Live Music
ATTACH;FMTTYPE=image/jpeg:https://blowingrockbrewing.com/wp-content/uploads/2025/04/summerale-release-sq.jpg
END:VEVENT
END:VCALENDAR