BEGIN:VCALENDAR
VERSION:2.0
PRODID:-//Blowing Rock Brewing - ECPv6.15.20//NONSGML v1.0//EN
CALSCALE:GREGORIAN
METHOD:PUBLISH
X-ORIGINAL-URL:https://blowingrockbrewing.com
X-WR-CALDESC:Events for Blowing Rock Brewing
REFRESH-INTERVAL;VALUE=DURATION:PT1H
X-Robots-Tag:noindex
X-PUBLISHED-TTL:PT1H
BEGIN:VTIMEZONE
TZID:America/New_York
BEGIN:DAYLIGHT
TZOFFSETFROM:-0500
TZOFFSETTO:-0400
TZNAME:EDT
DTSTART:20230312T070000
END:DAYLIGHT
BEGIN:STANDARD
TZOFFSETFROM:-0400
TZOFFSETTO:-0500
TZNAME:EST
DTSTART:20231105T060000
END:STANDARD
BEGIN:DAYLIGHT
TZOFFSETFROM:-0500
TZOFFSETTO:-0400
TZNAME:EDT
DTSTART:20240310T070000
END:DAYLIGHT
BEGIN:STANDARD
TZOFFSETFROM:-0400
TZOFFSETTO:-0500
TZNAME:EST
DTSTART:20241103T060000
END:STANDARD
BEGIN:DAYLIGHT
TZOFFSETFROM:-0500
TZOFFSETTO:-0400
TZNAME:EDT
DTSTART:20250309T070000
END:DAYLIGHT
BEGIN:STANDARD
TZOFFSETFROM:-0400
TZOFFSETTO:-0500
TZNAME:EST
DTSTART:20251102T060000
END:STANDARD
BEGIN:DAYLIGHT
TZOFFSETFROM:-0500
TZOFFSETTO:-0400
TZNAME:EDT
DTSTART:20260308T070000
END:DAYLIGHT
BEGIN:STANDARD
TZOFFSETFROM:-0400
TZOFFSETTO:-0500
TZNAME:EST
DTSTART:20261101T060000
END:STANDARD
END:VTIMEZONE
BEGIN:VEVENT
DTSTART;VALUE=DATE:20241231
DTEND;VALUE=DATE:20250102
DTSTAMP:20260422T154741
CREATED:20231205T141402Z
LAST-MODIFIED:20241212T192649Z
UID:10000087-1735603200-1735775999@blowingrockbrewing.com
SUMMARY:Ale House in Blowing Rock OPEN for New Year's
DESCRIPTION:Blowing Rock Ale House in Blowing Rock\, NC is OPEN during regular hours New Year’s Eve and New Year’s Day. \nTuesday\, December 31st: 11:30am–8pm \nWednesdayday\, January 1st: 11:30am–8pm \nBring in 2025 at the Ale House!
URL:https://blowingrockbrewing.com/event/ale-house-new-years/
LOCATION:Blowing Rock Ale House\, 152 Sunset Drive\, Blowing Rock\, NC\, 28605\, United States
CATEGORIES:Ale House
END:VEVENT
END:VCALENDAR