BEGIN:VCALENDAR
VERSION:2.0
PRODID:-//Blowing Rock Brewing - ECPv6.15.20//NONSGML v1.0//EN
CALSCALE:GREGORIAN
METHOD:PUBLISH
X-ORIGINAL-URL:https://blowingrockbrewing.com
X-WR-CALDESC:Events for Blowing Rock Brewing
REFRESH-INTERVAL;VALUE=DURATION:PT1H
X-Robots-Tag:noindex
X-PUBLISHED-TTL:PT1H
BEGIN:VTIMEZONE
TZID:America/New_York
BEGIN:DAYLIGHT
TZOFFSETFROM:-0500
TZOFFSETTO:-0400
TZNAME:EDT
DTSTART:20230312T070000
END:DAYLIGHT
BEGIN:STANDARD
TZOFFSETFROM:-0400
TZOFFSETTO:-0500
TZNAME:EST
DTSTART:20231105T060000
END:STANDARD
BEGIN:DAYLIGHT
TZOFFSETFROM:-0500
TZOFFSETTO:-0400
TZNAME:EDT
DTSTART:20240310T070000
END:DAYLIGHT
BEGIN:STANDARD
TZOFFSETFROM:-0400
TZOFFSETTO:-0500
TZNAME:EST
DTSTART:20241103T060000
END:STANDARD
BEGIN:DAYLIGHT
TZOFFSETFROM:-0500
TZOFFSETTO:-0400
TZNAME:EDT
DTSTART:20250309T070000
END:DAYLIGHT
BEGIN:STANDARD
TZOFFSETFROM:-0400
TZOFFSETTO:-0500
TZNAME:EST
DTSTART:20251102T060000
END:STANDARD
END:VTIMEZONE
BEGIN:VEVENT
DTSTART;TZID=America/New_York:20241205T113000
DTEND;TZID=America/New_York:20241205T210000
DTSTAMP:20260422T154746
CREATED:20241120T202429Z
LAST-MODIFIED:20241120T202545Z
UID:10002479-1733398200-1733432400@blowingrockbrewing.com
SUMMARY:Blowing Rock School Spirit Day
DESCRIPTION:Join Us for Blowing Rock School Spirit Day!\nOn Thursday\, December 5th Blowing Rock Brewing will be donating 10% of our Ale House sales for the entire day to Blowing Rock School’s Parent-Teacher Organization. \nThursday\, December 5th\, 2024\n11:30am-9:00pm \n10% of ALL sales on this day will be donated to Blowing Rock School’s Parent-Teacher Organization. Learn more about BR School’s PTO at their website: https://www.blowingrockschoolpto.com/
URL:https://blowingrockbrewing.com/event/blowing-rock-school-spirit-day/
CATEGORIES:Ale House
ATTACH;FMTTYPE=image/jpeg:https://blowingrockbrewing.com/wp-content/uploads/2024/11/br-school-spiritday-4x5-1.jpg
END:VEVENT
END:VCALENDAR