BEGIN:VCALENDAR
VERSION:2.0
PRODID:-//Blowing Rock Brewing - ECPv6.15.20//NONSGML v1.0//EN
CALSCALE:GREGORIAN
METHOD:PUBLISH
X-ORIGINAL-URL:https://blowingrockbrewing.com
X-WR-CALDESC:Events for Blowing Rock Brewing
REFRESH-INTERVAL;VALUE=DURATION:PT1H
X-Robots-Tag:noindex
X-PUBLISHED-TTL:PT1H
BEGIN:VTIMEZONE
TZID:America/New_York
BEGIN:DAYLIGHT
TZOFFSETFROM:-0500
TZOFFSETTO:-0400
TZNAME:EDT
DTSTART:20230312T070000
END:DAYLIGHT
BEGIN:STANDARD
TZOFFSETFROM:-0400
TZOFFSETTO:-0500
TZNAME:EST
DTSTART:20231105T060000
END:STANDARD
BEGIN:DAYLIGHT
TZOFFSETFROM:-0500
TZOFFSETTO:-0400
TZNAME:EDT
DTSTART:20240310T070000
END:DAYLIGHT
BEGIN:STANDARD
TZOFFSETFROM:-0400
TZOFFSETTO:-0500
TZNAME:EST
DTSTART:20241103T060000
END:STANDARD
BEGIN:DAYLIGHT
TZOFFSETFROM:-0500
TZOFFSETTO:-0400
TZNAME:EDT
DTSTART:20250309T070000
END:DAYLIGHT
BEGIN:STANDARD
TZOFFSETFROM:-0400
TZOFFSETTO:-0500
TZNAME:EST
DTSTART:20251102T060000
END:STANDARD
END:VTIMEZONE
BEGIN:VEVENT
DTSTART;TZID=America/New_York:20241026T120000
DTEND;TZID=America/New_York:20241026T180000
DTSTAMP:20260422T123759
CREATED:20240906T191510Z
LAST-MODIFIED:20241026T144915Z
UID:10002478-1729944000-1729965600@blowingrockbrewing.com
SUMMARY:Oktoberfest Celebration
DESCRIPTION:Blowing Rock Brewing Company Presents Oktoberfest Celebration!\nBlowing Rock Ale House – Saturday\, Oct 26 2024\, 12–5pm (« NEW DATE & TIME!) \nLive Music featuring Local Favorites!\n\nPressley Laton\nWill Easter\n\nFun Festivities!\n\nStein holding competitions throughout the day\n\nPlus our favorite seasonal beer: Blowing Rock Oktoberfest Märzen-style Lager \nJoin us at the Ale House in Blowing Rock\, NC! \n\n\n\n \nProfits from Oktoberfest Pints & Pretzel sales go directly to affected families in need!\nWe are donating the profits from Oktoberfest pints and pretzels sales during the event to High Country Caregivers. This special organization supports folks who have\, for various reasons\, taken on custody and care of their grandchildren and/or nieces and nephews\, aiming to keep these children with family members and out of foster care. In response to Hurricane Helene\, they have been seeking donations for families who have been displaced and\, in some instances\, totally devastated by the disaster. Let’s support our area’s families in need!
URL:https://blowingrockbrewing.com/event/oktoberfest-celebration/
CATEGORIES:Ale House,Festival,Live Music
ATTACH;FMTTYPE=image/png:https://blowingrockbrewing.com/wp-content/uploads/2024/09/brb-oktoberfest-update2.png
END:VEVENT
END:VCALENDAR