BEGIN:VCALENDAR
VERSION:2.0
PRODID:-//Blowing Rock Brewing - ECPv6.15.20//NONSGML v1.0//EN
CALSCALE:GREGORIAN
METHOD:PUBLISH
X-WR-CALNAME:Blowing Rock Brewing
X-ORIGINAL-URL:https://blowingrockbrewing.com
X-WR-CALDESC:Events for Blowing Rock Brewing
REFRESH-INTERVAL;VALUE=DURATION:PT1H
X-Robots-Tag:noindex
X-PUBLISHED-TTL:PT1H
BEGIN:VTIMEZONE
TZID:America/New_York
BEGIN:DAYLIGHT
TZOFFSETFROM:-0500
TZOFFSETTO:-0400
TZNAME:EDT
DTSTART:20230312T070000
END:DAYLIGHT
BEGIN:STANDARD
TZOFFSETFROM:-0400
TZOFFSETTO:-0500
TZNAME:EST
DTSTART:20231105T060000
END:STANDARD
BEGIN:DAYLIGHT
TZOFFSETFROM:-0500
TZOFFSETTO:-0400
TZNAME:EDT
DTSTART:20240310T070000
END:DAYLIGHT
BEGIN:STANDARD
TZOFFSETFROM:-0400
TZOFFSETTO:-0500
TZNAME:EST
DTSTART:20241103T060000
END:STANDARD
BEGIN:DAYLIGHT
TZOFFSETFROM:-0500
TZOFFSETTO:-0400
TZNAME:EDT
DTSTART:20250309T070000
END:DAYLIGHT
BEGIN:STANDARD
TZOFFSETFROM:-0400
TZOFFSETTO:-0500
TZNAME:EST
DTSTART:20251102T060000
END:STANDARD
END:VTIMEZONE
BEGIN:VEVENT
DTSTART;TZID=America/New_York:20240630T140000
DTEND;TZID=America/New_York:20240630T170000
DTSTAMP:20260422T062019
CREATED:20240506T193241Z
LAST-MODIFIED:20240506T193241Z
UID:10002473-1719756000-1719766800@blowingrockbrewing.com
SUMMARY:Dakota Groves
DESCRIPTION:Blowing Rock\, NC – Live Music at the Blowing Rock Ale House!\nDakota Groves\, an up and coming artist local to the Boone area\, plays a wide variety of 90’s and early 2000’s rock. He is starting his journey in songwriting\, so performs a handful of originals as well.
URL:https://blowingrockbrewing.com/event/dakota-groves-3/
LOCATION:Blowing Rock Ale House\, 152 Sunset Drive\, Blowing Rock\, NC\, 28605\, United States
CATEGORIES:Ale House,Live Music
END:VEVENT
END:VCALENDAR