BEGIN:VCALENDAR
VERSION:2.0
PRODID:-//Blowing Rock Brewing - ECPv6.15.20//NONSGML v1.0//EN
CALSCALE:GREGORIAN
METHOD:PUBLISH
X-WR-CALNAME:Blowing Rock Brewing
X-ORIGINAL-URL:https://blowingrockbrewing.com
X-WR-CALDESC:Events for Blowing Rock Brewing
REFRESH-INTERVAL;VALUE=DURATION:PT1H
X-Robots-Tag:noindex
X-PUBLISHED-TTL:PT1H
BEGIN:VTIMEZONE
TZID:America/New_York
BEGIN:DAYLIGHT
TZOFFSETFROM:-0500
TZOFFSETTO:-0400
TZNAME:EDT
DTSTART:20220313T070000
END:DAYLIGHT
BEGIN:STANDARD
TZOFFSETFROM:-0400
TZOFFSETTO:-0500
TZNAME:EST
DTSTART:20221106T060000
END:STANDARD
BEGIN:DAYLIGHT
TZOFFSETFROM:-0500
TZOFFSETTO:-0400
TZNAME:EDT
DTSTART:20230312T070000
END:DAYLIGHT
BEGIN:STANDARD
TZOFFSETFROM:-0400
TZOFFSETTO:-0500
TZNAME:EST
DTSTART:20231105T060000
END:STANDARD
BEGIN:DAYLIGHT
TZOFFSETFROM:-0500
TZOFFSETTO:-0400
TZNAME:EDT
DTSTART:20240310T070000
END:DAYLIGHT
BEGIN:STANDARD
TZOFFSETFROM:-0400
TZOFFSETTO:-0500
TZNAME:EST
DTSTART:20241103T060000
END:STANDARD
END:VTIMEZONE
BEGIN:VEVENT
DTSTART;TZID=America/New_York:20230618T140000
DTEND;TZID=America/New_York:20230618T170000
DTSTAMP:20260421T183046
CREATED:20230516T180836Z
LAST-MODIFIED:20230523T182456Z
UID:10000015-1687096800-1687107600@blowingrockbrewing.com
SUMMARY:Dylan Innes
DESCRIPTION:Blowing Rock\, NC – Live Music at the Blowing Rock Ale House!\nDylan Innes is an emerging singer-songwriter\, based out of North Carolina. The formation of his independent record label\, Unrecordings\, as well as leading Boone-based band “80 Unlacey\,” provided Dylan with a platform to ultimately pursue his solo work.​ He is known as someone who will bring out a crowd\, headlining and opening for the likes of Andrew Duron\, Sam Burchfield and Josh Water.  Following the release of a fully-acoustic album in early 2021\, “Taste the Tide\,” Dylan has taken his artistry to new heights–pulling together local musicians to perform the album plugged-in. His follow up singles “Little Blue House” and “Nurse Jackie” more accurately reflect the sound of his live show with a full band. He is currently working on an EP\, and playing shows all around the Southeast. He can play covers and originals for hours.
URL:https://blowingrockbrewing.com/event/dylan-innes/
LOCATION:Blowing Rock Ale House\, 152 Sunset Drive\, Blowing Rock\, NC\, 28605\, United States
CATEGORIES:Ale House,Live Music
ATTACH;FMTTYPE=image/jpeg:https://blowingrockbrewing.com/wp-content/uploads/2023/05/dylan-innes.jpg
END:VEVENT
END:VCALENDAR