BEGIN:VCALENDAR
VERSION:2.0
PRODID:-//Blowing Rock Brewing - ECPv6.15.20//NONSGML v1.0//EN
CALSCALE:GREGORIAN
METHOD:PUBLISH
X-WR-CALNAME:Blowing Rock Brewing
X-ORIGINAL-URL:https://blowingrockbrewing.com
X-WR-CALDESC:Events for Blowing Rock Brewing
REFRESH-INTERVAL;VALUE=DURATION:PT1H
X-Robots-Tag:noindex
X-PUBLISHED-TTL:PT1H
BEGIN:VTIMEZONE
TZID:America/New_York
BEGIN:DAYLIGHT
TZOFFSETFROM:-0500
TZOFFSETTO:-0400
TZNAME:EDT
DTSTART:20220313T070000
END:DAYLIGHT
BEGIN:STANDARD
TZOFFSETFROM:-0400
TZOFFSETTO:-0500
TZNAME:EST
DTSTART:20221106T060000
END:STANDARD
BEGIN:DAYLIGHT
TZOFFSETFROM:-0500
TZOFFSETTO:-0400
TZNAME:EDT
DTSTART:20230312T070000
END:DAYLIGHT
BEGIN:STANDARD
TZOFFSETFROM:-0400
TZOFFSETTO:-0500
TZNAME:EST
DTSTART:20231105T060000
END:STANDARD
BEGIN:DAYLIGHT
TZOFFSETFROM:-0500
TZOFFSETTO:-0400
TZNAME:EDT
DTSTART:20240310T070000
END:DAYLIGHT
BEGIN:STANDARD
TZOFFSETFROM:-0400
TZOFFSETTO:-0500
TZNAME:EST
DTSTART:20241103T060000
END:STANDARD
END:VTIMEZONE
BEGIN:VEVENT
DTSTART;TZID=America/New_York:20230604T140000
DTEND;TZID=America/New_York:20230604T170000
DTSTAMP:20260421T183035
CREATED:20230516T162212Z
LAST-MODIFIED:20230523T182424Z
UID:10000012-1685887200-1685898000@blowingrockbrewing.com
SUMMARY:McKenzie Marie
DESCRIPTION:Blowing Rock\, NC – Live Music at the Blowing Rock Ale House!\nMackenzie Marie\, native to Hickory\, NC\, started her music career at the age of 3 while recording songs from church on a vintage cassette player. Impressed by her ability to sing as such a young age\, her grandfather\, also a singer and musician\, took her under his wing. Using a background in piano\, Mackenzie taught herself to play the guitar and began to interpret life through lyrics. As a songwriter\, her musical influence spans decades from the 50’s to the 80’s\, including artists such as Elvis Pressley\, Van Morrison\, and Journey. Vocally she is compared to Norah Jones\, Stevie Nicks\, and Bonnie Ratt.
URL:https://blowingrockbrewing.com/event/mckenzie/
LOCATION:Blowing Rock Ale House\, 152 Sunset Drive\, Blowing Rock\, NC\, 28605\, United States
CATEGORIES:Ale House,Live Music
END:VEVENT
END:VCALENDAR