BEGIN:VCALENDAR
VERSION:2.0
PRODID:-//Blowing Rock Brewing - ECPv6.15.20//NONSGML v1.0//EN
CALSCALE:GREGORIAN
METHOD:PUBLISH
X-ORIGINAL-URL:https://blowingrockbrewing.com
X-WR-CALDESC:Events for Blowing Rock Brewing
REFRESH-INTERVAL;VALUE=DURATION:PT1H
X-Robots-Tag:noindex
X-PUBLISHED-TTL:PT1H
BEGIN:VTIMEZONE
TZID:America/New_York
BEGIN:DAYLIGHT
TZOFFSETFROM:-0500
TZOFFSETTO:-0400
TZNAME:EDT
DTSTART:20240310T070000
END:DAYLIGHT
BEGIN:STANDARD
TZOFFSETFROM:-0400
TZOFFSETTO:-0500
TZNAME:EST
DTSTART:20241103T060000
END:STANDARD
BEGIN:DAYLIGHT
TZOFFSETFROM:-0500
TZOFFSETTO:-0400
TZNAME:EDT
DTSTART:20250309T070000
END:DAYLIGHT
BEGIN:STANDARD
TZOFFSETFROM:-0400
TZOFFSETTO:-0500
TZNAME:EST
DTSTART:20251102T060000
END:STANDARD
BEGIN:DAYLIGHT
TZOFFSETFROM:-0500
TZOFFSETTO:-0400
TZNAME:EDT
DTSTART:20260308T070000
END:DAYLIGHT
BEGIN:STANDARD
TZOFFSETFROM:-0400
TZOFFSETTO:-0500
TZNAME:EST
DTSTART:20261101T060000
END:STANDARD
END:VTIMEZONE
BEGIN:VEVENT
DTSTART;TZID=America/New_York:20250615T140000
DTEND;TZID=America/New_York:20250615T170000
DTSTAMP:20260422T202412
CREATED:20240430T202314Z
LAST-MODIFIED:20250617T215417Z
UID:10002466-1749996000-1750006800@blowingrockbrewing.com
SUMMARY:Devin Lacey
DESCRIPTION:Blowing Rock\, NC – Live Music by Devin Lacey at the Blowing Rock Ale House!\nDevin Lacey grows and sells flowers at our local farmers’ markets and for weddings/events. We purchase our flowers for the Ale House from him\, and now we welcome him to play his music!
URL:https://blowingrockbrewing.com/event/devin-lacey/
LOCATION:Blowing Rock Ale House\, 152 Sunset Drive\, Blowing Rock\, NC\, 28605\, United States
CATEGORIES:Ale House,Live Music
END:VEVENT
BEGIN:VEVENT
DTSTART;TZID=America/New_York:20250622T140000
DTEND;TZID=America/New_York:20250622T170000
DTSTAMP:20260422T202412
CREATED:20250617T213658Z
LAST-MODIFIED:20250617T213658Z
UID:10002483-1750600800-1750611600@blowingrockbrewing.com
SUMMARY:Crossnore Creek
DESCRIPTION:Blowing Rock\, NC – Live Music at the Blowing Rock Ale House!\nCrossnore Creek is a duo with musicians Chip Lyons and Christa Muse. They play in and around North Carolina’s High Country. From classic rock to originals\, Crossnore Creek have an eclectic sound blending folk and rock.
URL:https://blowingrockbrewing.com/event/crossnore-creek/
LOCATION:Blowing Rock Ale House\, 152 Sunset Drive\, Blowing Rock\, NC\, 28605\, United States
CATEGORIES:Ale House,Live Music
ATTACH;FMTTYPE=image/jpeg:https://blowingrockbrewing.com/wp-content/uploads/2025/06/crossnore-creek.jpg
END:VEVENT
BEGIN:VEVENT
DTSTART;TZID=America/New_York:20250629T140000
DTEND;TZID=America/New_York:20250629T170000
DTSTAMP:20260422T202412
CREATED:20230630T183734Z
LAST-MODIFIED:20250617T215454Z
UID:10000056-1751205600-1751216400@blowingrockbrewing.com
SUMMARY:Dakota Groves
DESCRIPTION:Blowing Rock\, NC – Live Music at the Blowing Rock Ale House!\nDakota Groves\, an up and coming artist local to the Boone area\, plays a wide variety of 90’s and early 2000’s rock. He is starting his journey in songwriting\, so performs a handful of originals as well.
URL:https://blowingrockbrewing.com/event/dakota-groves/
LOCATION:Blowing Rock Ale House\, 152 Sunset Drive\, Blowing Rock\, NC\, 28605\, United States
CATEGORIES:Ale House,Live Music
ATTACH;FMTTYPE=image/jpeg:https://blowingrockbrewing.com/wp-content/uploads/2023/06/dakota_groves.jpg
END:VEVENT
END:VCALENDAR