BEGIN:VCALENDAR
VERSION:2.0
PRODID:-//Blowing Rock Brewing - ECPv6.15.20//NONSGML v1.0//EN
CALSCALE:GREGORIAN
METHOD:PUBLISH
X-ORIGINAL-URL:https://blowingrockbrewing.com
X-WR-CALDESC:Events for Blowing Rock Brewing
REFRESH-INTERVAL;VALUE=DURATION:PT1H
X-Robots-Tag:noindex
X-PUBLISHED-TTL:PT1H
BEGIN:VTIMEZONE
TZID:America/New_York
BEGIN:DAYLIGHT
TZOFFSETFROM:-0500
TZOFFSETTO:-0400
TZNAME:EDT
DTSTART:20230312T070000
END:DAYLIGHT
BEGIN:STANDARD
TZOFFSETFROM:-0400
TZOFFSETTO:-0500
TZNAME:EST
DTSTART:20231105T060000
END:STANDARD
BEGIN:DAYLIGHT
TZOFFSETFROM:-0500
TZOFFSETTO:-0400
TZNAME:EDT
DTSTART:20240310T070000
END:DAYLIGHT
BEGIN:STANDARD
TZOFFSETFROM:-0400
TZOFFSETTO:-0500
TZNAME:EST
DTSTART:20241103T060000
END:STANDARD
BEGIN:DAYLIGHT
TZOFFSETFROM:-0500
TZOFFSETTO:-0400
TZNAME:EDT
DTSTART:20250309T070000
END:DAYLIGHT
BEGIN:STANDARD
TZOFFSETFROM:-0400
TZOFFSETTO:-0500
TZNAME:EST
DTSTART:20251102T060000
END:STANDARD
END:VTIMEZONE
BEGIN:VEVENT
DTSTART;TZID=America/New_York:20240804T140000
DTEND;TZID=America/New_York:20240804T170000
DTSTAMP:20260422T074405
CREATED:20240430T203222Z
LAST-MODIFIED:20240430T203222Z
UID:10002468-1722780000-1722790800@blowingrockbrewing.com
SUMMARY:New River Outlook
DESCRIPTION:Blowing Rock\, NC – Live Music by New River Outlook at the Blowing Rock Ale House!\nAs a trio\, New River Overlook has over 40 years of musical experience between the members. They play an eclectic mix of rock\, blues\, country and soul.
URL:https://blowingrockbrewing.com/event/new-river-outlook/
LOCATION:Blowing Rock Ale House\, 152 Sunset Drive\, Blowing Rock\, NC\, 28605\, United States
CATEGORIES:Ale House,Live Music
END:VEVENT
BEGIN:VEVENT
DTSTART;TZID=America/New_York:20240818T140000
DTEND;TZID=America/New_York:20240818T170000
DTSTAMP:20260422T074405
CREATED:20230516T155827Z
LAST-MODIFIED:20240808T220803Z
UID:10000009-1723989600-1724000400@blowingrockbrewing.com
SUMMARY:Will Easter
DESCRIPTION:Blowing Rock\, NC – Live Music by Will Easter at the Blowing Rock Ale House!\nComing of age in the shadow of the Sauratown Mountains\, Will Easter learned the family traditions; working hard\, enjoying life\, and playing music. His father and grandfather instilled in him their gifts\,talents\, work ethic\, and love for the nature surrounding their home. These lessons combined with inspiration from the wild calm of the land and steady roar of the river impressed on Will’s heart the inspiration for his masterful lyrics and music. Will embraced their gifts\, combining them with his love and appreciation for many genres\, crafting his own unique sound. You can call it “Sauratown Mountain Folk.” You can call it “Grunge Grass.” Regardless\, when you listen to his album\, Carolina Home\, you can hear his fearless vulnerability in every note and lyric. \nThe last few years have been incredible for Will. He has shared the stage with acts synonymous with Folk and Bluegrass like the legendary Jim Avett\, David Childers\, Time Sawyer\, Brooks Forsyth\, The Kruger Brothers\, Rhonda Vincent and Danger Muffin. In 2018 he earned his bachelor’s degree from Appalachian State University\, and in 2019 he recorded and released Carolina Home. From Boone and Asheville to the Triad and Charlotte\, Will has become a staple of music venues and festivals throughout the Carolinas and Virginia. With a piece of every place woven into each song\, his music has something for everyone\, while paying homage to his roots. The road ahead for Will is exciting.Won’t you join him on this sonic journey from coming of age to love lost and found\, working hard while finding peace in the every day\, always culminating in the winding road leading to his Carolina Home?
URL:https://blowingrockbrewing.com/event/will-easter-4/
LOCATION:Blowing Rock Ale House\, 152 Sunset Drive\, Blowing Rock\, NC\, 28605\, United States
CATEGORIES:Ale House,Live Music
ATTACH;FMTTYPE=image/jpeg:https://blowingrockbrewing.com/wp-content/uploads/2023/05/will-easter.jpg
END:VEVENT
BEGIN:VEVENT
DTSTART;TZID=America/New_York:20240825T150000
DTEND;TZID=America/New_York:20240825T170000
DTSTAMP:20260422T074405
CREATED:20230901T171607Z
LAST-MODIFIED:20240731T212124Z
UID:10000061-1724598000-1724605200@blowingrockbrewing.com
SUMMARY:Pressley Laton
DESCRIPTION:Live music by Pressley Laton at the Blowing Rock Ale House in Blowing Rock\, NC! \nGritty. Soulful. Country.\n\nHer country/rock vocals will punch right through you like Starr Larkin’s paddle… a wooden school paddle that Pressley Laton’s principal named “Ol’ George\,” that is. With at least 3 chords & the half-truth as in her debut single\, “Ol’ George\,” the Stanly County\, NC native’s small-town stories inspire her songwriting\, whether it was crossing paths with a local “Mountain Man” before graduating from Appalachian State University or the fact she had to break the news to her dad that she wasn’t coming back home because of it.
URL:https://blowingrockbrewing.com/event/pressley-laton/
LOCATION:Blowing Rock Ale House\, 152 Sunset Drive\, Blowing Rock\, NC\, 28605\, United States
CATEGORIES:Ale House,Live Music
ATTACH;FMTTYPE=image/jpeg:https://blowingrockbrewing.com/wp-content/uploads/2023/09/pressley_laton.jpg
END:VEVENT
END:VCALENDAR